BEGIN:VCALENDAR
VERSION:2.0
PRODID:-//Raven Café - ECPv6.15.20//NONSGML v1.0//EN
CALSCALE:GREGORIAN
METHOD:PUBLISH
X-ORIGINAL-URL:https://ravencafe.com
X-WR-CALDESC:Events for Raven Café
REFRESH-INTERVAL;VALUE=DURATION:PT1H
X-Robots-Tag:noindex
X-PUBLISHED-TTL:PT1H
BEGIN:VTIMEZONE
TZID:America/Phoenix
BEGIN:STANDARD
TZOFFSETFROM:-0700
TZOFFSETTO:-0700
TZNAME:MST
DTSTART:20250101T000000
END:STANDARD
END:VTIMEZONE
BEGIN:VEVENT
DTSTART;TZID=America/Phoenix:20260208T110000
DTEND;TZID=America/Phoenix:20260208T140000
DTSTAMP:20260424T160331
CREATED:20240501T041311Z
LAST-MODIFIED:20250823T201617Z
UID:21692-1770548400-1770559200@ravencafe.com
SUMMARY:Zach Dominguez and Cozzy Bohrman
DESCRIPTION:Join us for brunch every Sunday. Live music from 11-2p\n1st Sunday – Lee Zimmer. Classical and Spanish guitar\n2nd Sunday – Zach & Cozzy. Zach plays our house piano accompanied by Cozzy Bohrman on bass. Chillhop/jazz\n3rd Sunday – Jonathan Best. Local jazz piano player and composer.\n4th Sunday – Michael Jaramillo. Jazz guitar
URL:https://ravencafe.com/event/zach-dominguez-and-cozzy-bohrman-69/
CATEGORIES:Raven Events
END:VEVENT
END:VCALENDAR