BEGIN:VCALENDAR
VERSION:2.0
PRODID:-//Raven Café - ECPv6.15.20//NONSGML v1.0//EN
CALSCALE:GREGORIAN
METHOD:PUBLISH
X-ORIGINAL-URL:https://ravencafe.com
X-WR-CALDESC:Events for Raven Café
REFRESH-INTERVAL;VALUE=DURATION:PT1H
X-Robots-Tag:noindex
X-PUBLISHED-TTL:PT1H
BEGIN:VTIMEZONE
TZID:America/Phoenix
BEGIN:STANDARD
TZOFFSETFROM:-0700
TZOFFSETTO:-0700
TZNAME:MST
DTSTART:20250101T000000
END:STANDARD
END:VTIMEZONE
BEGIN:VEVENT
DTSTART;TZID=America/Phoenix:20260402T180000
DTEND;TZID=America/Phoenix:20260402T210000
DTSTAMP:20260424T133436
CREATED:20240623T212337Z
LAST-MODIFIED:20250822T024808Z
UID:23235-1775152800-1775163600@ravencafe.com
SUMMARY:1st Thursday Jazz Jam! This month’s host-
DESCRIPTION:Join us this Thursday and every 1st Thursday for our Jazz Jam. Hosted by a new house band each month\, it is an opportunity for local players to showcase their talents and connect with others. This is no amateur night\, you’ll be blown away! (Soloists bring a chart in the right key and sign up early!)
URL:https://ravencafe.com/event/1st-thursday-jazz-jam-this-months-host-39/
CATEGORIES:Raven Events
END:VEVENT
END:VCALENDAR