BEGIN:VCALENDAR
VERSION:2.0
PRODID:-//Raven Café - ECPv6.15.20//NONSGML v1.0//EN
CALSCALE:GREGORIAN
METHOD:PUBLISH
X-WR-CALNAME:Raven Café
X-ORIGINAL-URL:https://ravencafe.com
X-WR-CALDESC:Events for Raven Café
REFRESH-INTERVAL;VALUE=DURATION:PT1H
X-Robots-Tag:noindex
X-PUBLISHED-TTL:PT1H
BEGIN:VTIMEZONE
TZID:America/Phoenix
BEGIN:STANDARD
TZOFFSETFROM:-0700
TZOFFSETTO:-0700
TZNAME:MST
DTSTART:20250101T000000
END:STANDARD
END:VTIMEZONE
BEGIN:VEVENT
DTSTART;TZID=America/Phoenix:20260407T190000
DTEND;TZID=America/Phoenix:20260407T210000
DTSTAMP:20260424T172319
CREATED:20240703T065620Z
LAST-MODIFIED:20250822T024809Z
UID:23365-1775588400-1775595600@ravencafe.com
SUMMARY:Movie Night!
DESCRIPTION:
URL:https://ravencafe.com/event/movie-night-170/
CATEGORIES:Raven Events
END:VEVENT
END:VCALENDAR