BEGIN:VCALENDAR
VERSION:2.0
PRODID:-//Raven Café - ECPv6.15.20//NONSGML v1.0//EN
CALSCALE:GREGORIAN
METHOD:PUBLISH
X-WR-CALNAME:Raven Café
X-ORIGINAL-URL:https://ravencafe.com
X-WR-CALDESC:Events for Raven Café
REFRESH-INTERVAL;VALUE=DURATION:PT1H
X-Robots-Tag:noindex
X-PUBLISHED-TTL:PT1H
BEGIN:VTIMEZONE
TZID:America/Phoenix
BEGIN:STANDARD
TZOFFSETFROM:-0700
TZOFFSETTO:-0700
TZNAME:MST
DTSTART:20250101T000000
END:STANDARD
END:VTIMEZONE
BEGIN:VEVENT
DTSTART;TZID=America/Phoenix:20260623T190000
DTEND;TZID=America/Phoenix:20260623T210000
DTSTAMP:20260424T214628
CREATED:20240912T004100Z
LAST-MODIFIED:20250821T141556Z
UID:25933-1782241200-1782248400@ravencafe.com
SUMMARY:Movie Night!
DESCRIPTION:
URL:https://ravencafe.com/event/movie-night-181/
CATEGORIES:Raven Events
END:VEVENT
BEGIN:VEVENT
DTSTART;VALUE=DATE:20260624
DTEND;VALUE=DATE:20260625
DTSTAMP:20260424T214628
CREATED:20240911T041116Z
LAST-MODIFIED:20250821T141555Z
UID:25903-1782259200-1782345599@ravencafe.com
SUMMARY:1/2 off Rose ALL day!
DESCRIPTION:
URL:https://ravencafe.com/event/1-2-off-rose-all-day-181/
CATEGORIES:Raven Events
END:VEVENT
BEGIN:VEVENT
DTSTART;TZID=America/Phoenix:20260628T110000
DTEND;TZID=America/Phoenix:20260628T140000
DTSTAMP:20260424T214628
CREATED:20240915T210322Z
LAST-MODIFIED:20250821T141556Z
UID:26070-1782644400-1782655200@ravencafe.com
SUMMARY:Michael Jaramillo
DESCRIPTION:Join us for brunch every Sunday. Live music from 11-2p\n1st Sunday – Lee Zimmer. Classical and Spanish guitar\n2nd Sunday – Zach & Cozzy. Zach plays our house piano accompanied by Cozzy Bohrman on bass. Chillhop/jazz\n3rd Sunday – Jonathan Best. Local jazz piano player and composer.\n4th Sunday – Michael Jaramillo. Jazz guitar
URL:https://ravencafe.com/event/michael-jaramillo-42/
CATEGORIES:Raven Events
END:VEVENT
BEGIN:VEVENT
DTSTART;TZID=America/Phoenix:20260630T190000
DTEND;TZID=America/Phoenix:20260630T210000
DTSTAMP:20260424T214628
CREATED:20240918T042147Z
LAST-MODIFIED:20250819T114841Z
UID:26153-1782846000-1782853200@ravencafe.com
SUMMARY:Movie Night!
DESCRIPTION:
URL:https://ravencafe.com/event/movie-night-182/
CATEGORIES:Raven Events
END:VEVENT
BEGIN:VEVENT
DTSTART;VALUE=DATE:20260701
DTEND;VALUE=DATE:20260702
DTSTAMP:20260424T214628
CREATED:20240919T001151Z
LAST-MODIFIED:20250819T114842Z
UID:26184-1782864000-1782950399@ravencafe.com
SUMMARY:1/2 off Rose ALL day!
DESCRIPTION:
URL:https://ravencafe.com/event/1-2-off-rose-all-day-182/
CATEGORIES:Raven Events
END:VEVENT
BEGIN:VEVENT
DTSTART;TZID=America/Phoenix:20260702T180000
DTEND;TZID=America/Phoenix:20260702T210000
DTSTAMP:20260424T214628
CREATED:20240922T212615Z
LAST-MODIFIED:20250819T114842Z
UID:26321-1783015200-1783026000@ravencafe.com
SUMMARY:1st Thursday Jazz Jam! This month’s host-
DESCRIPTION:Join us this Thursday and every 1st Thursday for our Jazz Jam. Hosted by a new house band each month\, it is an opportunity for local players to showcase their talents and connect with others. This is no amateur night\, you’ll be blown away! (Soloists bring a chart in the right key and sign up early!)
URL:https://ravencafe.com/event/1st-thursday-jazz-jam-this-months-host-42/
CATEGORIES:Raven Events
END:VEVENT
BEGIN:VEVENT
DTSTART;TZID=America/Phoenix:20260705T110000
DTEND;TZID=America/Phoenix:20260705T140000
DTSTAMP:20260424T214628
CREATED:20240925T042924Z
LAST-MODIFIED:20250819T114842Z
UID:26403-1783249200-1783260000@ravencafe.com
SUMMARY:Lee Zimmer
DESCRIPTION:Join us for brunch every Sunday. Live music from 11-2p\n1st Sunday – Lee Zimmer. Classical and Spanish guitar\n2nd Sunday – Zach & Cozzy. Zach plays our house piano accompanied by Cozzy Bohrman on bass. Chillhop/jazz\n3rd Sunday – Jonathan Best. Local jazz piano player and composer.\n4th Sunday – Michael Jaramillo. Jazz guitar
URL:https://ravencafe.com/event/lee-zimmer-42/
CATEGORIES:Raven Events
END:VEVENT
BEGIN:VEVENT
DTSTART;TZID=America/Phoenix:20260707T190000
DTEND;TZID=America/Phoenix:20260707T210000
DTSTAMP:20260424T214628
CREATED:20240926T000926Z
LAST-MODIFIED:20250819T114842Z
UID:26432-1783450800-1783458000@ravencafe.com
SUMMARY:Movie Night!
DESCRIPTION:
URL:https://ravencafe.com/event/movie-night-183/
CATEGORIES:Raven Events
END:VEVENT
BEGIN:VEVENT
DTSTART;VALUE=DATE:20260708
DTEND;VALUE=DATE:20260709
DTSTAMP:20260424T214628
CREATED:20240927T001938Z
LAST-MODIFIED:20250819T114843Z
UID:26469-1783468800-1783555199@ravencafe.com
SUMMARY:1/2 off Rose ALL day!
DESCRIPTION:
URL:https://ravencafe.com/event/1-2-off-rose-all-day-183/
CATEGORIES:Raven Events
END:VEVENT
BEGIN:VEVENT
DTSTART;TZID=America/Phoenix:20260712T110000
DTEND;TZID=America/Phoenix:20260712T140000
DTSTAMP:20260424T214628
CREATED:20241002T044041Z
LAST-MODIFIED:20250819T114843Z
UID:26651-1783854000-1783864800@ravencafe.com
SUMMARY:Zach Dominguez and Cozzy Bohrman
DESCRIPTION:Join us for brunch every Sunday. Live music from 11-2p\n1st Sunday – Lee Zimmer. Classical and Spanish guitar\n2nd Sunday – Zach & Cozzy. Zach plays our house piano accompanied by Cozzy Bohrman on bass. Chillhop/jazz\n3rd Sunday – Jonathan Best. Local jazz piano player and composer.\n4th Sunday – Michael Jaramillo. Jazz guitar
URL:https://ravencafe.com/event/zach-dominguez-and-cozzy-bohrman-76/
CATEGORIES:Raven Events
END:VEVENT
BEGIN:VEVENT
DTSTART;TZID=America/Phoenix:20260714T190000
DTEND;TZID=America/Phoenix:20260714T210000
DTSTAMP:20260424T214628
CREATED:20241004T004931Z
LAST-MODIFIED:20250819T114844Z
UID:26714-1784055600-1784062800@ravencafe.com
SUMMARY:Movie Night!
DESCRIPTION:
URL:https://ravencafe.com/event/movie-night-184/
CATEGORIES:Raven Events
END:VEVENT
BEGIN:VEVENT
DTSTART;VALUE=DATE:20260715
DTEND;VALUE=DATE:20260716
DTSTAMP:20260424T214628
CREATED:20241003T002049Z
LAST-MODIFIED:20250819T114844Z
UID:26680-1784073600-1784159999@ravencafe.com
SUMMARY:1/2 off Rose ALL day!
DESCRIPTION:
URL:https://ravencafe.com/event/1-2-off-rose-all-day-184/
CATEGORIES:Raven Events
END:VEVENT
BEGIN:VEVENT
DTSTART;TZID=America/Phoenix:20260719T110000
DTEND;TZID=America/Phoenix:20260719T140000
DTSTAMP:20260424T214628
CREATED:20241006T210839Z
LAST-MODIFIED:20250819T114844Z
UID:26816-1784458800-1784469600@ravencafe.com
SUMMARY:Jonathan Best
DESCRIPTION:Join us for brunch every Sunday. Live music from 11-2p\n1st Sunday – Lee Zimmer. Classical and Spanish guitar\n2nd Sunday – Zach & Cozzy. Zach plays our house piano accompanied by Cozzy Bohrman on bass. Chillhop/jazz\n3rd Sunday – Jonathan Best. Local jazz piano player and composer.\n4th Sunday – Michael Jaramillo. Jazz guitar
URL:https://ravencafe.com/event/jonathan-best-43/
CATEGORIES:Raven Events
END:VEVENT
BEGIN:VEVENT
DTSTART;TZID=America/Phoenix:20260721T190000
DTEND;TZID=America/Phoenix:20260721T210000
DTSTAMP:20260424T214628
CREATED:20241010T000953Z
LAST-MODIFIED:20250819T114845Z
UID:26936-1784660400-1784667600@ravencafe.com
SUMMARY:Movie Night!
DESCRIPTION:
URL:https://ravencafe.com/event/movie-night-185/
CATEGORIES:Raven Events
END:VEVENT
BEGIN:VEVENT
DTSTART;VALUE=DATE:20260722
DTEND;VALUE=DATE:20260723
DTSTAMP:20260424T214628
CREATED:20241009T040225Z
LAST-MODIFIED:20250819T114845Z
UID:26899-1784678400-1784764799@ravencafe.com
SUMMARY:1/2 off Rose ALL day!
DESCRIPTION:
URL:https://ravencafe.com/event/1-2-off-rose-all-day-185/
CATEGORIES:Raven Events
END:VEVENT
BEGIN:VEVENT
DTSTART;TZID=America/Phoenix:20260726T110000
DTEND;TZID=America/Phoenix:20260726T140000
DTSTAMP:20260424T214628
CREATED:20241106T192534Z
LAST-MODIFIED:20250819T114845Z
UID:27621-1785063600-1785074400@ravencafe.com
SUMMARY:Michael Jaramillo
DESCRIPTION:Join us for brunch every Sunday. Live music from 11-2p\n1st Sunday – Lee Zimmer. Classical and Spanish guitar\n2nd Sunday – Zach & Cozzy. Zach plays our house piano accompanied by Cozzy Bohrman on bass. Chillhop/jazz\n3rd Sunday – Jonathan Best. Local jazz piano player and composer.\n4th Sunday – Michael Jaramillo. Jazz guitar
URL:https://ravencafe.com/event/michael-jaramillo-43/
CATEGORIES:Raven Events
END:VEVENT
BEGIN:VEVENT
DTSTART;TZID=America/Phoenix:20260728T190000
DTEND;TZID=America/Phoenix:20260728T210000
DTSTAMP:20260424T214628
CREATED:20241106T192535Z
LAST-MODIFIED:20250819T114846Z
UID:27623-1785265200-1785272400@ravencafe.com
SUMMARY:Movie Night!
DESCRIPTION:
URL:https://ravencafe.com/event/movie-night-186/
CATEGORIES:Raven Events
END:VEVENT
BEGIN:VEVENT
DTSTART;VALUE=DATE:20260729
DTEND;VALUE=DATE:20260730
DTSTAMP:20260424T214628
CREATED:20241106T192534Z
LAST-MODIFIED:20250819T114846Z
UID:27622-1785283200-1785369599@ravencafe.com
SUMMARY:1/2 off Rose ALL day!
DESCRIPTION:
URL:https://ravencafe.com/event/1-2-off-rose-all-day-186/
CATEGORIES:Raven Events
END:VEVENT
BEGIN:VEVENT
DTSTART;TZID=America/Phoenix:20260802T110000
DTEND;TZID=America/Phoenix:20260802T140000
DTSTAMP:20260424T214628
CREATED:20241106T192535Z
LAST-MODIFIED:20250819T114846Z
UID:27624-1785668400-1785679200@ravencafe.com
SUMMARY:Lee Zimmer
DESCRIPTION:Join us for brunch every Sunday. Live music from 11-2p\n1st Sunday – Lee Zimmer. Classical and Spanish guitar\n2nd Sunday – Zach & Cozzy. Zach plays our house piano accompanied by Cozzy Bohrman on bass. Chillhop/jazz\n3rd Sunday – Jonathan Best. Local jazz piano player and composer.\n4th Sunday – Michael Jaramillo. Jazz guitar
URL:https://ravencafe.com/event/lee-zimmer-43/
CATEGORIES:Raven Events
END:VEVENT
BEGIN:VEVENT
DTSTART;TZID=America/Phoenix:20260804T190000
DTEND;TZID=America/Phoenix:20260804T210000
DTSTAMP:20260424T214628
CREATED:20241106T192536Z
LAST-MODIFIED:20250818T185015Z
UID:27626-1785870000-1785877200@ravencafe.com
SUMMARY:Movie Night!
DESCRIPTION:
URL:https://ravencafe.com/event/movie-night-187/
CATEGORIES:Raven Events
END:VEVENT
BEGIN:VEVENT
DTSTART;VALUE=DATE:20260805
DTEND;VALUE=DATE:20260806
DTSTAMP:20260424T214628
CREATED:20241106T192536Z
LAST-MODIFIED:20250818T185015Z
UID:27625-1785888000-1785974399@ravencafe.com
SUMMARY:1/2 off Rose ALL day!
DESCRIPTION:
URL:https://ravencafe.com/event/1-2-off-rose-all-day-187/
CATEGORIES:Raven Events
END:VEVENT
BEGIN:VEVENT
DTSTART;TZID=America/Phoenix:20260806T180000
DTEND;TZID=America/Phoenix:20260806T210000
DTSTAMP:20260424T214628
CREATED:20241106T192537Z
LAST-MODIFIED:20250814T072947Z
UID:27627-1786039200-1786050000@ravencafe.com
SUMMARY:1st Thursday Jazz Jam! This month’s host-
DESCRIPTION:Join us this Thursday and every 1st Thursday for our Jazz Jam. Hosted by a new house band each month\, it is an opportunity for local players to showcase their talents and connect with others. This is no amateur night\, you’ll be blown away! (Soloists bring a chart in the right key and sign up early!)
URL:https://ravencafe.com/event/1st-thursday-jazz-jam-this-months-host-43/
CATEGORIES:Raven Events
END:VEVENT
BEGIN:VEVENT
DTSTART;TZID=America/Phoenix:20260809T110000
DTEND;TZID=America/Phoenix:20260809T140000
DTSTAMP:20260424T214628
CREATED:20241106T192537Z
LAST-MODIFIED:20250814T072947Z
UID:27628-1786273200-1786284000@ravencafe.com
SUMMARY:Zach Dominguez and Cozzy Bohrman
DESCRIPTION:Join us for brunch every Sunday. Live music from 11-2p\n1st Sunday – Lee Zimmer. Classical and Spanish guitar\n2nd Sunday – Zach & Cozzy. Zach plays our house piano accompanied by Cozzy Bohrman on bass. Chillhop/jazz\n3rd Sunday – Jonathan Best. Local jazz piano player and composer.\n4th Sunday – Michael Jaramillo. Jazz guitar
URL:https://ravencafe.com/event/zach-dominguez-and-cozzy-bohrman-77/
CATEGORIES:Raven Events
END:VEVENT
BEGIN:VEVENT
DTSTART;TZID=America/Phoenix:20260811T190000
DTEND;TZID=America/Phoenix:20260811T210000
DTSTAMP:20260424T214628
CREATED:20241106T192538Z
LAST-MODIFIED:20250814T072948Z
UID:27629-1786474800-1786482000@ravencafe.com
SUMMARY:Movie Night!
DESCRIPTION:
URL:https://ravencafe.com/event/movie-night-188/
CATEGORIES:Raven Events
END:VEVENT
BEGIN:VEVENT
DTSTART;VALUE=DATE:20260812
DTEND;VALUE=DATE:20260813
DTSTAMP:20260424T214628
CREATED:20241106T192538Z
LAST-MODIFIED:20250814T072947Z
UID:27630-1786492800-1786579199@ravencafe.com
SUMMARY:1/2 off Rose ALL day!
DESCRIPTION:
URL:https://ravencafe.com/event/1-2-off-rose-all-day-188/
CATEGORIES:Raven Events
END:VEVENT
BEGIN:VEVENT
DTSTART;TZID=America/Phoenix:20260816T110000
DTEND;TZID=America/Phoenix:20260816T140000
DTSTAMP:20260424T214628
CREATED:20241106T192539Z
LAST-MODIFIED:20250814T072948Z
UID:27631-1786878000-1786888800@ravencafe.com
SUMMARY:Jonathan Best
DESCRIPTION:Join us for brunch every Sunday. Live music from 11-2p\n1st Sunday – Lee Zimmer. Classical and Spanish guitar\n2nd Sunday – Zach & Cozzy. Zach plays our house piano accompanied by Cozzy Bohrman on bass. Chillhop/jazz\n3rd Sunday – Jonathan Best. Local jazz piano player and composer.\n4th Sunday – Michael Jaramillo. Jazz guitar
URL:https://ravencafe.com/event/jonathan-best-44/
CATEGORIES:Raven Events
END:VEVENT
BEGIN:VEVENT
DTSTART;TZID=America/Phoenix:20260818T190000
DTEND;TZID=America/Phoenix:20260818T210000
DTSTAMP:20260424T214628
CREATED:20241116T113858Z
LAST-MODIFIED:20250814T072949Z
UID:27874-1787079600-1787086800@ravencafe.com
SUMMARY:Movie Night!
DESCRIPTION:
URL:https://ravencafe.com/event/movie-night-189/
CATEGORIES:Raven Events
END:VEVENT
BEGIN:VEVENT
DTSTART;VALUE=DATE:20260819
DTEND;VALUE=DATE:20260820
DTSTAMP:20260424T214628
CREATED:20241116T113857Z
LAST-MODIFIED:20250814T072949Z
UID:27873-1787097600-1787183999@ravencafe.com
SUMMARY:1/2 off Rose ALL day!
DESCRIPTION:
URL:https://ravencafe.com/event/1-2-off-rose-all-day-189/
CATEGORIES:Raven Events
END:VEVENT
BEGIN:VEVENT
DTSTART;TZID=America/Phoenix:20260823T110000
DTEND;TZID=America/Phoenix:20260823T140000
DTSTAMP:20260424T214628
CREATED:20241116T113858Z
LAST-MODIFIED:20250814T072949Z
UID:27875-1787482800-1787493600@ravencafe.com
SUMMARY:Michael Jaramillo
DESCRIPTION:Join us for brunch every Sunday. Live music from 11-2p\n1st Sunday – Lee Zimmer. Classical and Spanish guitar\n2nd Sunday – Zach & Cozzy. Zach plays our house piano accompanied by Cozzy Bohrman on bass. Chillhop/jazz\n3rd Sunday – Jonathan Best. Local jazz piano player and composer.\n4th Sunday – Michael Jaramillo. Jazz guitar
URL:https://ravencafe.com/event/michael-jaramillo-44/
CATEGORIES:Raven Events
END:VEVENT
BEGIN:VEVENT
DTSTART;TZID=America/Phoenix:20260825T190000
DTEND;TZID=America/Phoenix:20260825T210000
DTSTAMP:20260424T214628
CREATED:20241116T113859Z
LAST-MODIFIED:20250814T081130Z
UID:27876-1787684400-1787691600@ravencafe.com
SUMMARY:Movie Night!
DESCRIPTION:
URL:https://ravencafe.com/event/movie-night-190/
CATEGORIES:Raven Events
END:VEVENT
END:VCALENDAR