BEGIN:VCALENDAR
VERSION:2.0
PRODID:-//Raven Café - ECPv6.15.20//NONSGML v1.0//EN
CALSCALE:GREGORIAN
METHOD:PUBLISH
X-WR-CALNAME:Raven Café
X-ORIGINAL-URL:https://ravencafe.com
X-WR-CALDESC:Events for Raven Café
REFRESH-INTERVAL;VALUE=DURATION:PT1H
X-Robots-Tag:noindex
X-PUBLISHED-TTL:PT1H
BEGIN:VTIMEZONE
TZID:America/Phoenix
BEGIN:STANDARD
TZOFFSETFROM:-0700
TZOFFSETTO:-0700
TZNAME:MST
DTSTART:20250101T000000
END:STANDARD
END:VTIMEZONE
BEGIN:VEVENT
DTSTART;TZID=America/Phoenix:20260308T110000
DTEND;TZID=America/Phoenix:20260308T140000
DTSTAMP:20260424T172237
CREATED:20240529T041757Z
LAST-MODIFIED:20250822T024802Z
UID:22242-1772967600-1772978400@ravencafe.com
SUMMARY:Zach Dominguez and Cozzy Bohrman
DESCRIPTION:Join us for brunch every Sunday. Live music from 11-2p\n1st Sunday – Lee Zimmer. Classical and Spanish guitar\n2nd Sunday – Zach & Cozzy. Zach plays our house piano accompanied by Cozzy Bohrman on bass. Chillhop/jazz\n3rd Sunday – Jonathan Best. Local jazz piano player and composer.\n4th Sunday – Michael Jaramillo. Jazz guitar
URL:https://ravencafe.com/event/zach-dominguez-and-cozzy-bohrman-70/
CATEGORIES:Raven Events
END:VEVENT
BEGIN:VEVENT
DTSTART;TZID=America/Phoenix:20260310T190000
DTEND;TZID=America/Phoenix:20260310T210000
DTSTAMP:20260424T172237
CREATED:20240530T002930Z
LAST-MODIFIED:20250822T024803Z
UID:22266-1773169200-1773176400@ravencafe.com
SUMMARY:Movie Night!
DESCRIPTION:
URL:https://ravencafe.com/event/movie-night-166/
CATEGORIES:Raven Events
END:VEVENT
BEGIN:VEVENT
DTSTART;VALUE=DATE:20260311
DTEND;VALUE=DATE:20260312
DTSTAMP:20260424T172237
CREATED:20240531T002416Z
LAST-MODIFIED:20250822T024803Z
UID:22299-1773187200-1773273599@ravencafe.com
SUMMARY:1/2 off Rose ALL day!
DESCRIPTION:
URL:https://ravencafe.com/event/1-2-off-rose-all-day-166/
CATEGORIES:Raven Events
END:VEVENT
BEGIN:VEVENT
DTSTART;TZID=America/Phoenix:20260315T110000
DTEND;TZID=America/Phoenix:20260315T140000
DTSTAMP:20260424T172237
CREATED:20240605T044338Z
LAST-MODIFIED:20250822T024804Z
UID:22477-1773572400-1773583200@ravencafe.com
SUMMARY:Jonathan Best
DESCRIPTION:Join us for brunch every Sunday. Live music from 11-2p\n1st Sunday – Lee Zimmer. Classical and Spanish guitar\n2nd Sunday – Zach & Cozzy. Zach plays our house piano accompanied by Cozzy Bohrman on bass. Chillhop/jazz\n3rd Sunday – Jonathan Best. Local jazz piano player and composer.\n4th Sunday – Michael Jaramillo. Jazz guitar
URL:https://ravencafe.com/event/jonathan-best-39/
CATEGORIES:Raven Events
END:VEVENT
BEGIN:VEVENT
DTSTART;TZID=America/Phoenix:20260317T190000
DTEND;TZID=America/Phoenix:20260317T210000
DTSTAMP:20260424T172237
CREATED:20240607T041848Z
LAST-MODIFIED:20250822T024804Z
UID:22547-1773774000-1773781200@ravencafe.com
SUMMARY:Movie Night!
DESCRIPTION:
URL:https://ravencafe.com/event/movie-night-167/
CATEGORIES:Raven Events
END:VEVENT
BEGIN:VEVENT
DTSTART;VALUE=DATE:20260318
DTEND;VALUE=DATE:20260319
DTSTAMP:20260424T172237
CREATED:20240606T001123Z
LAST-MODIFIED:20250822T024805Z
UID:22504-1773792000-1773878399@ravencafe.com
SUMMARY:1/2 off Rose ALL day!
DESCRIPTION:
URL:https://ravencafe.com/event/1-2-off-rose-all-day-167/
CATEGORIES:Raven Events
END:VEVENT
BEGIN:VEVENT
DTSTART;TZID=America/Phoenix:20260322T110000
DTEND;TZID=America/Phoenix:20260322T140000
DTSTAMP:20260424T172237
CREATED:20240609T211812Z
LAST-MODIFIED:20250822T024805Z
UID:22636-1774177200-1774188000@ravencafe.com
SUMMARY:Michael Jaramillo
DESCRIPTION:Join us for brunch every Sunday. Live music from 11-2p\n1st Sunday – Lee Zimmer. Classical and Spanish guitar\n2nd Sunday – Zach & Cozzy. Zach plays our house piano accompanied by Cozzy Bohrman on bass. Chillhop/jazz\n3rd Sunday – Jonathan Best. Local jazz piano player and composer.\n4th Sunday – Michael Jaramillo. Jazz guitar
URL:https://ravencafe.com/event/michael-jaramillo-39/
CATEGORIES:Raven Events
END:VEVENT
BEGIN:VEVENT
DTSTART;TZID=America/Phoenix:20260324T190000
DTEND;TZID=America/Phoenix:20260324T210000
DTSTAMP:20260424T172237
CREATED:20240613T170314Z
LAST-MODIFIED:20250822T024806Z
UID:22773-1774378800-1774386000@ravencafe.com
SUMMARY:Movie Night!
DESCRIPTION:
URL:https://ravencafe.com/event/movie-night-168/
CATEGORIES:Raven Events
END:VEVENT
BEGIN:VEVENT
DTSTART;VALUE=DATE:20260325
DTEND;VALUE=DATE:20260326
DTSTAMP:20260424T172237
CREATED:20240613T170314Z
LAST-MODIFIED:20250822T024806Z
UID:22772-1774396800-1774483199@ravencafe.com
SUMMARY:1/2 off Rose ALL day!
DESCRIPTION:
URL:https://ravencafe.com/event/1-2-off-rose-all-day-168/
CATEGORIES:Raven Events
END:VEVENT
BEGIN:VEVENT
DTSTART;TZID=America/Phoenix:20260329T110000
DTEND;TZID=America/Phoenix:20260329T140000
DTSTAMP:20260424T172237
CREATED:20240616T213435Z
LAST-MODIFIED:20250822T024806Z
UID:22879-1774782000-1774792800@ravencafe.com
SUMMARY:Zach Dominguez and Cozzy Bohrman
DESCRIPTION:
URL:https://ravencafe.com/event/zach-dominguez-and-cozzy-bohrman-71/
CATEGORIES:Raven Events
END:VEVENT
BEGIN:VEVENT
DTSTART;TZID=America/Phoenix:20260331T190000
DTEND;TZID=America/Phoenix:20260331T210000
DTSTAMP:20260424T172237
CREATED:20240620T002130Z
LAST-MODIFIED:20250822T024807Z
UID:22998-1774983600-1774990800@ravencafe.com
SUMMARY:Movie Night!
DESCRIPTION:
URL:https://ravencafe.com/event/movie-night-169/
CATEGORIES:Raven Events
END:VEVENT
BEGIN:VEVENT
DTSTART;VALUE=DATE:20260401
DTEND;VALUE=DATE:20260402
DTSTAMP:20260424T172237
CREATED:20240619T040718Z
LAST-MODIFIED:20250822T024807Z
UID:22956-1775001600-1775087999@ravencafe.com
SUMMARY:1/2 off Rose ALL day!
DESCRIPTION:
URL:https://ravencafe.com/event/1-2-off-rose-all-day-169/
CATEGORIES:Raven Events
END:VEVENT
BEGIN:VEVENT
DTSTART;TZID=America/Phoenix:20260402T180000
DTEND;TZID=America/Phoenix:20260402T210000
DTSTAMP:20260424T172237
CREATED:20240623T212337Z
LAST-MODIFIED:20250822T024808Z
UID:23235-1775152800-1775163600@ravencafe.com
SUMMARY:1st Thursday Jazz Jam! This month’s host-
DESCRIPTION:Join us this Thursday and every 1st Thursday for our Jazz Jam. Hosted by a new house band each month\, it is an opportunity for local players to showcase their talents and connect with others. This is no amateur night\, you’ll be blown away! (Soloists bring a chart in the right key and sign up early!)
URL:https://ravencafe.com/event/1st-thursday-jazz-jam-this-months-host-39/
CATEGORIES:Raven Events
END:VEVENT
BEGIN:VEVENT
DTSTART;TZID=America/Phoenix:20260405T110000
DTEND;TZID=America/Phoenix:20260405T140000
DTSTAMP:20260424T172237
CREATED:20240626T042817Z
LAST-MODIFIED:20250822T024808Z
UID:23356-1775386800-1775397600@ravencafe.com
SUMMARY:Lee Zimmer
DESCRIPTION:Join us for brunch every Sunday. Live music from 11-2p\n1st Sunday – Lee Zimmer. Classical and Spanish guitar\n2nd Sunday – Zach & Cozzy. Zach plays our house piano accompanied by Cozzy Bohrman on bass. Chillhop/jazz\n3rd Sunday – Jonathan Best. Local jazz piano player and composer.\n4th Sunday – Michael Jaramillo. Jazz guitar
URL:https://ravencafe.com/event/lee-zimmer-39/
CATEGORIES:Raven Events
END:VEVENT
BEGIN:VEVENT
DTSTART;TZID=America/Phoenix:20260407T190000
DTEND;TZID=America/Phoenix:20260407T210000
DTSTAMP:20260424T172237
CREATED:20240703T065620Z
LAST-MODIFIED:20250822T024809Z
UID:23365-1775588400-1775595600@ravencafe.com
SUMMARY:Movie Night!
DESCRIPTION:
URL:https://ravencafe.com/event/movie-night-170/
CATEGORIES:Raven Events
END:VEVENT
BEGIN:VEVENT
DTSTART;VALUE=DATE:20260408
DTEND;VALUE=DATE:20260409
DTSTAMP:20260424T172237
CREATED:20240703T065619Z
LAST-MODIFIED:20250822T024809Z
UID:23364-1775606400-1775692799@ravencafe.com
SUMMARY:1/2 off Rose ALL day!
DESCRIPTION:
URL:https://ravencafe.com/event/1-2-off-rose-all-day-170/
CATEGORIES:Raven Events
END:VEVENT
BEGIN:VEVENT
DTSTART;TZID=America/Phoenix:20260412T110000
DTEND;TZID=America/Phoenix:20260412T140000
DTSTAMP:20260424T172237
CREATED:20240703T065620Z
LAST-MODIFIED:20250822T024809Z
UID:23366-1775991600-1776002400@ravencafe.com
SUMMARY:Zach Dominguez and Cozzy Bohrman
DESCRIPTION:Join us for brunch every Sunday. Live music from 11-2p\n1st Sunday – Lee Zimmer. Classical and Spanish guitar\n2nd Sunday – Zach & Cozzy. Zach plays our house piano accompanied by Cozzy Bohrman on bass. Chillhop/jazz\n3rd Sunday – Jonathan Best. Local jazz piano player and composer.\n4th Sunday – Michael Jaramillo. Jazz guitar
URL:https://ravencafe.com/event/zach-dominguez-and-cozzy-bohrman-72/
CATEGORIES:Raven Events
END:VEVENT
BEGIN:VEVENT
DTSTART;TZID=America/Phoenix:20260414T190000
DTEND;TZID=America/Phoenix:20260414T210000
DTSTAMP:20260424T172237
CREATED:20240705T003657Z
LAST-MODIFIED:20250822T024810Z
UID:23425-1776193200-1776200400@ravencafe.com
SUMMARY:Movie Night!
DESCRIPTION:
URL:https://ravencafe.com/event/movie-night-171/
CATEGORIES:Raven Events
END:VEVENT
BEGIN:VEVENT
DTSTART;VALUE=DATE:20260415
DTEND;VALUE=DATE:20260416
DTSTAMP:20260424T172237
CREATED:20240704T000904Z
LAST-MODIFIED:20250822T024810Z
UID:23394-1776211200-1776297599@ravencafe.com
SUMMARY:1/2 off Rose ALL day!
DESCRIPTION:
URL:https://ravencafe.com/event/1-2-off-rose-all-day-171/
CATEGORIES:Raven Events
END:VEVENT
BEGIN:VEVENT
DTSTART;TZID=America/Phoenix:20260419T110000
DTEND;TZID=America/Phoenix:20260419T140000
DTSTAMP:20260424T172237
CREATED:20240707T212529Z
LAST-MODIFIED:20250822T024811Z
UID:23519-1776596400-1776607200@ravencafe.com
SUMMARY:Jonathan Best
DESCRIPTION:Join us for brunch every Sunday. Live music from 11-2p\n1st Sunday – Lee Zimmer. Classical and Spanish guitar\n2nd Sunday – Zach & Cozzy. Zach plays our house piano accompanied by Cozzy Bohrman on bass. Chillhop/jazz\n3rd Sunday – Jonathan Best. Local jazz piano player and composer.\n4th Sunday – Michael Jaramillo. Jazz guitar
URL:https://ravencafe.com/event/jonathan-best-40/
CATEGORIES:Raven Events
END:VEVENT
BEGIN:VEVENT
DTSTART;TZID=America/Phoenix:20260421T190000
DTEND;TZID=America/Phoenix:20260421T210000
DTSTAMP:20260424T172237
CREATED:20240711T003331Z
LAST-MODIFIED:20250822T024811Z
UID:23632-1776798000-1776805200@ravencafe.com
SUMMARY:Movie Night!
DESCRIPTION:
URL:https://ravencafe.com/event/movie-night-172/
CATEGORIES:Raven Events
END:VEVENT
BEGIN:VEVENT
DTSTART;VALUE=DATE:20260422
DTEND;VALUE=DATE:20260423
DTSTAMP:20260424T172237
CREATED:20240710T043805Z
LAST-MODIFIED:20250822T024812Z
UID:23600-1776816000-1776902399@ravencafe.com
SUMMARY:1/2 off Rose ALL day!
DESCRIPTION:
URL:https://ravencafe.com/event/1-2-off-rose-all-day-172/
CATEGORIES:Raven Events
END:VEVENT
BEGIN:VEVENT
DTSTART;TZID=America/Phoenix:20260426T110000
DTEND;TZID=America/Phoenix:20260426T140000
DTSTAMP:20260424T172237
CREATED:20240714T211730Z
LAST-MODIFIED:20250822T024812Z
UID:23770-1777201200-1777212000@ravencafe.com
SUMMARY:Michael Jaramillo
DESCRIPTION:Join us for brunch every Sunday. Live music from 11-2p\n1st Sunday – Lee Zimmer. Classical and Spanish guitar\n2nd Sunday – Zach & Cozzy. Zach plays our house piano accompanied by Cozzy Bohrman on bass. Chillhop/jazz\n3rd Sunday – Jonathan Best. Local jazz piano player and composer.\n4th Sunday – Michael Jaramillo. Jazz guitar
URL:https://ravencafe.com/event/michael-jaramillo-40/
CATEGORIES:Raven Events
END:VEVENT
BEGIN:VEVENT
DTSTART;TZID=America/Phoenix:20260428T190000
DTEND;TZID=America/Phoenix:20260428T210000
DTSTAMP:20260424T172237
CREATED:20240717T043033Z
LAST-MODIFIED:20250822T024812Z
UID:23851-1777402800-1777410000@ravencafe.com
SUMMARY:Movie Night!
DESCRIPTION:
URL:https://ravencafe.com/event/movie-night-173/
CATEGORIES:Raven Events
END:VEVENT
BEGIN:VEVENT
DTSTART;VALUE=DATE:20260429
DTEND;VALUE=DATE:20260430
DTSTAMP:20260424T172237
CREATED:20240718T002133Z
LAST-MODIFIED:20250822T024813Z
UID:23881-1777420800-1777507199@ravencafe.com
SUMMARY:1/2 off Rose ALL day!
DESCRIPTION:
URL:https://ravencafe.com/event/1-2-off-rose-all-day-173/
CATEGORIES:Raven Events
END:VEVENT
BEGIN:VEVENT
DTSTART;TZID=America/Phoenix:20260503T110000
DTEND;TZID=America/Phoenix:20260503T140000
DTSTAMP:20260424T172237
CREATED:20240721T214810Z
LAST-MODIFIED:20250822T024813Z
UID:23997-1777806000-1777816800@ravencafe.com
SUMMARY:Lee Zimmer
DESCRIPTION:Join us for brunch every Sunday. Live music from 11-2p\n1st Sunday – Lee Zimmer. Classical and Spanish guitar\n2nd Sunday – Zach & Cozzy. Zach plays our house piano accompanied by Cozzy Bohrman on bass. Chillhop/jazz\n3rd Sunday – Jonathan Best. Local jazz piano player and composer.\n4th Sunday – Michael Jaramillo. Jazz guitar
URL:https://ravencafe.com/event/lee-zimmer-40/
CATEGORIES:Raven Events
END:VEVENT
BEGIN:VEVENT
DTSTART;TZID=America/Phoenix:20260505T190000
DTEND;TZID=America/Phoenix:20260505T210000
DTSTAMP:20260424T172237
CREATED:20240725T003927Z
LAST-MODIFIED:20250822T024814Z
UID:24105-1778007600-1778014800@ravencafe.com
SUMMARY:Movie Night!
DESCRIPTION:
URL:https://ravencafe.com/event/movie-night-174/
CATEGORIES:Raven Events
END:VEVENT
BEGIN:VEVENT
DTSTART;VALUE=DATE:20260506
DTEND;VALUE=DATE:20260507
DTSTAMP:20260424T172237
CREATED:20240724T042536Z
LAST-MODIFIED:20250822T024814Z
UID:24069-1778025600-1778111999@ravencafe.com
SUMMARY:1/2 off Rose ALL day!
DESCRIPTION:
URL:https://ravencafe.com/event/1-2-off-rose-all-day-174/
CATEGORIES:Raven Events
END:VEVENT
BEGIN:VEVENT
DTSTART;TZID=America/Phoenix:20260507T180000
DTEND;TZID=America/Phoenix:20260507T210000
DTSTAMP:20260424T172237
CREATED:20240728T210311Z
LAST-MODIFIED:20250822T024815Z
UID:24242-1778176800-1778187600@ravencafe.com
SUMMARY:1st Thursday Jazz Jam! This month’s host-
DESCRIPTION:Join us this Thursday and every 1st Thursday for our Jazz Jam. Hosted by a new house band each month\, it is an opportunity for local players to showcase their talents and connect with others. This is no amateur night\, you’ll be blown away! (Soloists bring a chart in the right key and sign up early!)
URL:https://ravencafe.com/event/1st-thursday-jazz-jam-this-months-host-40/
CATEGORIES:Raven Events
END:VEVENT
BEGIN:VEVENT
DTSTART;TZID=America/Phoenix:20260510T110000
DTEND;TZID=America/Phoenix:20260510T140000
DTSTAMP:20260424T172237
CREATED:20240731T040513Z
LAST-MODIFIED:20250822T024815Z
UID:24316-1778410800-1778421600@ravencafe.com
SUMMARY:Zach Dominguez and Cozzy Bohrman
DESCRIPTION:Join us for brunch every Sunday. Live music from 11-2p\n1st Sunday – Lee Zimmer. Classical and Spanish guitar\n2nd Sunday – Zach & Cozzy. Zach plays our house piano accompanied by Cozzy Bohrman on bass. Chillhop/jazz\n3rd Sunday – Jonathan Best. Local jazz piano player and composer.\n4th Sunday – Michael Jaramillo. Jazz guitar
URL:https://ravencafe.com/event/zach-dominguez-and-cozzy-bohrman-73/
CATEGORIES:Raven Events
END:VEVENT
END:VCALENDAR