BEGIN:VCALENDAR
VERSION:2.0
PRODID:-//Raven Café - ECPv6.15.20//NONSGML v1.0//EN
CALSCALE:GREGORIAN
METHOD:PUBLISH
X-WR-CALNAME:Raven Café
X-ORIGINAL-URL:https://ravencafe.com
X-WR-CALDESC:Events for Raven Café
REFRESH-INTERVAL;VALUE=DURATION:PT1H
X-Robots-Tag:noindex
X-PUBLISHED-TTL:PT1H
BEGIN:VTIMEZONE
TZID:America/Phoenix
BEGIN:STANDARD
TZOFFSETFROM:-0700
TZOFFSETTO:-0700
TZNAME:MST
DTSTART:20250101T000000
END:STANDARD
END:VTIMEZONE
BEGIN:VEVENT
DTSTART;VALUE=DATE:20260422
DTEND;VALUE=DATE:20260423
DTSTAMP:20260424T172338
CREATED:20240710T043805Z
LAST-MODIFIED:20250822T024812Z
UID:23600-1776816000-1776902399@ravencafe.com
SUMMARY:1/2 off Rose ALL day!
DESCRIPTION:
URL:https://ravencafe.com/event/1-2-off-rose-all-day-172/
CATEGORIES:Raven Events
END:VEVENT
BEGIN:VEVENT
DTSTART;TZID=America/Phoenix:20260426T110000
DTEND;TZID=America/Phoenix:20260426T140000
DTSTAMP:20260424T172338
CREATED:20240714T211730Z
LAST-MODIFIED:20250822T024812Z
UID:23770-1777201200-1777212000@ravencafe.com
SUMMARY:Michael Jaramillo
DESCRIPTION:Join us for brunch every Sunday. Live music from 11-2p\n1st Sunday – Lee Zimmer. Classical and Spanish guitar\n2nd Sunday – Zach & Cozzy. Zach plays our house piano accompanied by Cozzy Bohrman on bass. Chillhop/jazz\n3rd Sunday – Jonathan Best. Local jazz piano player and composer.\n4th Sunday – Michael Jaramillo. Jazz guitar
URL:https://ravencafe.com/event/michael-jaramillo-40/
CATEGORIES:Raven Events
END:VEVENT
BEGIN:VEVENT
DTSTART;TZID=America/Phoenix:20260428T190000
DTEND;TZID=America/Phoenix:20260428T210000
DTSTAMP:20260424T172338
CREATED:20240717T043033Z
LAST-MODIFIED:20250822T024812Z
UID:23851-1777402800-1777410000@ravencafe.com
SUMMARY:Movie Night!
DESCRIPTION:
URL:https://ravencafe.com/event/movie-night-173/
CATEGORIES:Raven Events
END:VEVENT
BEGIN:VEVENT
DTSTART;VALUE=DATE:20260429
DTEND;VALUE=DATE:20260430
DTSTAMP:20260424T172338
CREATED:20240718T002133Z
LAST-MODIFIED:20250822T024813Z
UID:23881-1777420800-1777507199@ravencafe.com
SUMMARY:1/2 off Rose ALL day!
DESCRIPTION:
URL:https://ravencafe.com/event/1-2-off-rose-all-day-173/
CATEGORIES:Raven Events
END:VEVENT
BEGIN:VEVENT
DTSTART;TZID=America/Phoenix:20260503T110000
DTEND;TZID=America/Phoenix:20260503T140000
DTSTAMP:20260424T172338
CREATED:20240721T214810Z
LAST-MODIFIED:20250822T024813Z
UID:23997-1777806000-1777816800@ravencafe.com
SUMMARY:Lee Zimmer
DESCRIPTION:Join us for brunch every Sunday. Live music from 11-2p\n1st Sunday – Lee Zimmer. Classical and Spanish guitar\n2nd Sunday – Zach & Cozzy. Zach plays our house piano accompanied by Cozzy Bohrman on bass. Chillhop/jazz\n3rd Sunday – Jonathan Best. Local jazz piano player and composer.\n4th Sunday – Michael Jaramillo. Jazz guitar
URL:https://ravencafe.com/event/lee-zimmer-40/
CATEGORIES:Raven Events
END:VEVENT
BEGIN:VEVENT
DTSTART;TZID=America/Phoenix:20260505T190000
DTEND;TZID=America/Phoenix:20260505T210000
DTSTAMP:20260424T172338
CREATED:20240725T003927Z
LAST-MODIFIED:20250822T024814Z
UID:24105-1778007600-1778014800@ravencafe.com
SUMMARY:Movie Night!
DESCRIPTION:
URL:https://ravencafe.com/event/movie-night-174/
CATEGORIES:Raven Events
END:VEVENT
BEGIN:VEVENT
DTSTART;VALUE=DATE:20260506
DTEND;VALUE=DATE:20260507
DTSTAMP:20260424T172338
CREATED:20240724T042536Z
LAST-MODIFIED:20250822T024814Z
UID:24069-1778025600-1778111999@ravencafe.com
SUMMARY:1/2 off Rose ALL day!
DESCRIPTION:
URL:https://ravencafe.com/event/1-2-off-rose-all-day-174/
CATEGORIES:Raven Events
END:VEVENT
BEGIN:VEVENT
DTSTART;TZID=America/Phoenix:20260507T180000
DTEND;TZID=America/Phoenix:20260507T210000
DTSTAMP:20260424T172338
CREATED:20240728T210311Z
LAST-MODIFIED:20250822T024815Z
UID:24242-1778176800-1778187600@ravencafe.com
SUMMARY:1st Thursday Jazz Jam! This month’s host-
DESCRIPTION:Join us this Thursday and every 1st Thursday for our Jazz Jam. Hosted by a new house band each month\, it is an opportunity for local players to showcase their talents and connect with others. This is no amateur night\, you’ll be blown away! (Soloists bring a chart in the right key and sign up early!)
URL:https://ravencafe.com/event/1st-thursday-jazz-jam-this-months-host-40/
CATEGORIES:Raven Events
END:VEVENT
BEGIN:VEVENT
DTSTART;TZID=America/Phoenix:20260510T110000
DTEND;TZID=America/Phoenix:20260510T140000
DTSTAMP:20260424T172338
CREATED:20240731T040513Z
LAST-MODIFIED:20250822T024815Z
UID:24316-1778410800-1778421600@ravencafe.com
SUMMARY:Zach Dominguez and Cozzy Bohrman
DESCRIPTION:Join us for brunch every Sunday. Live music from 11-2p\n1st Sunday – Lee Zimmer. Classical and Spanish guitar\n2nd Sunday – Zach & Cozzy. Zach plays our house piano accompanied by Cozzy Bohrman on bass. Chillhop/jazz\n3rd Sunday – Jonathan Best. Local jazz piano player and composer.\n4th Sunday – Michael Jaramillo. Jazz guitar
URL:https://ravencafe.com/event/zach-dominguez-and-cozzy-bohrman-73/
CATEGORIES:Raven Events
END:VEVENT
BEGIN:VEVENT
DTSTART;TZID=America/Phoenix:20260512T190000
DTEND;TZID=America/Phoenix:20260512T210000
DTSTAMP:20260424T172338
CREATED:20240802T002502Z
LAST-MODIFIED:20250821T141547Z
UID:24383-1778612400-1778619600@ravencafe.com
SUMMARY:Movie Night!
DESCRIPTION:
URL:https://ravencafe.com/event/movie-night-175/
CATEGORIES:Raven Events
END:VEVENT
BEGIN:VEVENT
DTSTART;VALUE=DATE:20260513
DTEND;VALUE=DATE:20260514
DTSTAMP:20260424T172338
CREATED:20240801T002151Z
LAST-MODIFIED:20250821T141546Z
UID:24346-1778630400-1778716799@ravencafe.com
SUMMARY:1/2 off Rose ALL day!
DESCRIPTION:
URL:https://ravencafe.com/event/1-2-off-rose-all-day-175/
CATEGORIES:Raven Events
END:VEVENT
BEGIN:VEVENT
DTSTART;TZID=America/Phoenix:20260517T110000
DTEND;TZID=America/Phoenix:20260517T140000
DTSTAMP:20260424T172338
CREATED:20240804T212033Z
LAST-MODIFIED:20250821T141547Z
UID:24479-1779015600-1779026400@ravencafe.com
SUMMARY:Jonathan Best
DESCRIPTION:Join us for brunch every Sunday. Live music from 11-2p\n1st Sunday – Lee Zimmer. Classical and Spanish guitar\n2nd Sunday – Zach & Cozzy. Zach plays our house piano accompanied by Cozzy Bohrman on bass. Chillhop/jazz\n3rd Sunday – Jonathan Best. Local jazz piano player and composer.\n4th Sunday – Michael Jaramillo. Jazz guitar
URL:https://ravencafe.com/event/jonathan-best-41/
CATEGORIES:Raven Events
END:VEVENT
BEGIN:VEVENT
DTSTART;TZID=America/Phoenix:20260519T190000
DTEND;TZID=America/Phoenix:20260519T210000
DTSTAMP:20260424T172338
CREATED:20240808T004356Z
LAST-MODIFIED:20250821T141548Z
UID:24595-1779217200-1779224400@ravencafe.com
SUMMARY:Movie Night!
DESCRIPTION:
URL:https://ravencafe.com/event/movie-night-176/
CATEGORIES:Raven Events
END:VEVENT
BEGIN:VEVENT
DTSTART;VALUE=DATE:20260520
DTEND;VALUE=DATE:20260521
DTSTAMP:20260424T172338
CREATED:20240807T043238Z
LAST-MODIFIED:20250821T141548Z
UID:24564-1779235200-1779321599@ravencafe.com
SUMMARY:1/2 off Rose ALL day!
DESCRIPTION:
URL:https://ravencafe.com/event/1-2-off-rose-all-day-176/
CATEGORIES:Raven Events
END:VEVENT
BEGIN:VEVENT
DTSTART;TZID=America/Phoenix:20260524T110000
DTEND;TZID=America/Phoenix:20260524T140000
DTSTAMP:20260424T172338
CREATED:20240811T211825Z
LAST-MODIFIED:20250821T141549Z
UID:24743-1779620400-1779631200@ravencafe.com
SUMMARY:Michael Jaramillo
DESCRIPTION:Join us for brunch every Sunday. Live music from 11-2p\n1st Sunday – Lee Zimmer. Classical and Spanish guitar\n2nd Sunday – Zach & Cozzy. Zach plays our house piano accompanied by Cozzy Bohrman on bass. Chillhop/jazz\n3rd Sunday – Jonathan Best. Local jazz piano player and composer.\n4th Sunday – Michael Jaramillo. Jazz guitar
URL:https://ravencafe.com/event/michael-jaramillo-41/
CATEGORIES:Raven Events
END:VEVENT
BEGIN:VEVENT
DTSTART;TZID=America/Phoenix:20260526T190000
DTEND;TZID=America/Phoenix:20260526T210000
DTSTAMP:20260424T172338
CREATED:20240814T040930Z
LAST-MODIFIED:20250821T141549Z
UID:24825-1779822000-1779829200@ravencafe.com
SUMMARY:Movie Night!
DESCRIPTION:
URL:https://ravencafe.com/event/movie-night-177/
CATEGORIES:Raven Events
END:VEVENT
BEGIN:VEVENT
DTSTART;VALUE=DATE:20260527
DTEND;VALUE=DATE:20260528
DTSTAMP:20260424T172338
CREATED:20240815T001148Z
LAST-MODIFIED:20250821T141550Z
UID:24855-1779840000-1779926399@ravencafe.com
SUMMARY:1/2 off Rose ALL day!
DESCRIPTION:
URL:https://ravencafe.com/event/1-2-off-rose-all-day-177/
CATEGORIES:Raven Events
END:VEVENT
BEGIN:VEVENT
DTSTART;TZID=America/Phoenix:20260531T110000
DTEND;TZID=America/Phoenix:20260531T140000
DTSTAMP:20260424T172338
CREATED:20240818T211553Z
LAST-MODIFIED:20250821T141550Z
UID:24989-1780225200-1780236000@ravencafe.com
SUMMARY:Zach Dominguez and Cozzy Bohrman
DESCRIPTION:
URL:https://ravencafe.com/event/zach-dominguez-and-cozzy-bohrman-74/
CATEGORIES:Raven Events
END:VEVENT
BEGIN:VEVENT
DTSTART;TZID=America/Phoenix:20260602T190000
DTEND;TZID=America/Phoenix:20260602T210000
DTSTAMP:20260424T172338
CREATED:20240821T040937Z
LAST-MODIFIED:20250821T141551Z
UID:25067-1780426800-1780434000@ravencafe.com
SUMMARY:Movie Night!
DESCRIPTION:
URL:https://ravencafe.com/event/movie-night-178/
CATEGORIES:Raven Events
END:VEVENT
BEGIN:VEVENT
DTSTART;VALUE=DATE:20260603
DTEND;VALUE=DATE:20260604
DTSTAMP:20260424T172338
CREATED:20240822T001257Z
LAST-MODIFIED:20250821T141551Z
UID:25098-1780444800-1780531199@ravencafe.com
SUMMARY:1/2 off Rose ALL day!
DESCRIPTION:
URL:https://ravencafe.com/event/1-2-off-rose-all-day-178/
CATEGORIES:Raven Events
END:VEVENT
BEGIN:VEVENT
DTSTART;TZID=America/Phoenix:20260604T180000
DTEND;TZID=America/Phoenix:20260604T210000
DTSTAMP:20260424T172338
CREATED:20240825T213834Z
LAST-MODIFIED:20250821T141551Z
UID:25229-1780596000-1780606800@ravencafe.com
SUMMARY:1st Thursday Jazz Jam! This month’s host-
DESCRIPTION:Join us this Thursday and every 1st Thursday for our Jazz Jam. Hosted by a new house band each month\, it is an opportunity for local players to showcase their talents and connect with others. This is no amateur night\, you’ll be blown away! (Soloists bring a chart in the right key and sign up early!)
URL:https://ravencafe.com/event/1st-thursday-jazz-jam-this-months-host-41/
CATEGORIES:Raven Events
END:VEVENT
BEGIN:VEVENT
DTSTART;TZID=America/Phoenix:20260607T110000
DTEND;TZID=America/Phoenix:20260607T140000
DTSTAMP:20260424T172338
CREATED:20240828T044256Z
LAST-MODIFIED:20250821T141552Z
UID:25312-1780830000-1780840800@ravencafe.com
SUMMARY:Lee Zimmer
DESCRIPTION:Join us for brunch every Sunday. Live music from 11-2p\n1st Sunday – Lee Zimmer. Classical and Spanish guitar\n2nd Sunday – Zach & Cozzy. Zach plays our house piano accompanied by Cozzy Bohrman on bass. Chillhop/jazz\n3rd Sunday – Jonathan Best. Local jazz piano player and composer.\n4th Sunday – Michael Jaramillo. Jazz guitar
URL:https://ravencafe.com/event/lee-zimmer-41/
CATEGORIES:Raven Events
END:VEVENT
BEGIN:VEVENT
DTSTART;TZID=America/Phoenix:20260609T190000
DTEND;TZID=America/Phoenix:20260609T210000
DTSTAMP:20260424T172338
CREATED:20240830T013756Z
LAST-MODIFIED:20250821T141553Z
UID:25381-1781031600-1781038800@ravencafe.com
SUMMARY:Movie Night!
DESCRIPTION:
URL:https://ravencafe.com/event/movie-night-179/
CATEGORIES:Raven Events
END:VEVENT
BEGIN:VEVENT
DTSTART;VALUE=DATE:20260610
DTEND;VALUE=DATE:20260611
DTSTAMP:20260424T172338
CREATED:20240829T001155Z
LAST-MODIFIED:20250821T141552Z
UID:25341-1781049600-1781135999@ravencafe.com
SUMMARY:1/2 off Rose ALL day!
DESCRIPTION:
URL:https://ravencafe.com/event/1-2-off-rose-all-day-179/
CATEGORIES:Raven Events
END:VEVENT
BEGIN:VEVENT
DTSTART;TZID=America/Phoenix:20260614T110000
DTEND;TZID=America/Phoenix:20260614T140000
DTSTAMP:20260424T172338
CREATED:20240904T040523Z
LAST-MODIFIED:20250821T141553Z
UID:25625-1781434800-1781445600@ravencafe.com
SUMMARY:Zach Dominguez and Cozzy Bohrman
DESCRIPTION:Join us for brunch every Sunday. Live music from 11-2p\n1st Sunday – Lee Zimmer. Classical and Spanish guitar\n2nd Sunday – Zach & Cozzy. Zach plays our house piano accompanied by Cozzy Bohrman on bass. Chillhop/jazz\n3rd Sunday – Jonathan Best. Local jazz piano player and composer.\n4th Sunday – Michael Jaramillo. Jazz guitar
URL:https://ravencafe.com/event/zach-dominguez-and-cozzy-bohrman-75/
CATEGORIES:Raven Events
END:VEVENT
BEGIN:VEVENT
DTSTART;TZID=America/Phoenix:20260616T190000
DTEND;TZID=America/Phoenix:20260616T210000
DTSTAMP:20260424T172338
CREATED:20240906T041047Z
LAST-MODIFIED:20250821T141554Z
UID:25730-1781636400-1781643600@ravencafe.com
SUMMARY:Movie Night!
DESCRIPTION:
URL:https://ravencafe.com/event/movie-night-180/
CATEGORIES:Raven Events
END:VEVENT
BEGIN:VEVENT
DTSTART;VALUE=DATE:20260617
DTEND;VALUE=DATE:20260618
DTSTAMP:20260424T172338
CREATED:20240905T011942Z
LAST-MODIFIED:20250821T141554Z
UID:25673-1781654400-1781740799@ravencafe.com
SUMMARY:1/2 off Rose ALL day!
DESCRIPTION:
URL:https://ravencafe.com/event/1-2-off-rose-all-day-180/
CATEGORIES:Raven Events
END:VEVENT
BEGIN:VEVENT
DTSTART;TZID=America/Phoenix:20260621T110000
DTEND;TZID=America/Phoenix:20260621T140000
DTSTAMP:20260424T172338
CREATED:20240908T211922Z
LAST-MODIFIED:20250821T141555Z
UID:25822-1782039600-1782050400@ravencafe.com
SUMMARY:Jonathan Best
DESCRIPTION:Join us for brunch every Sunday. Live music from 11-2p\n1st Sunday – Lee Zimmer. Classical and Spanish guitar\n2nd Sunday – Zach & Cozzy. Zach plays our house piano accompanied by Cozzy Bohrman on bass. Chillhop/jazz\n3rd Sunday – Jonathan Best. Local jazz piano player and composer.\n4th Sunday – Michael Jaramillo. Jazz guitar
URL:https://ravencafe.com/event/jonathan-best-42/
CATEGORIES:Raven Events
END:VEVENT
BEGIN:VEVENT
DTSTART;TZID=America/Phoenix:20260623T190000
DTEND;TZID=America/Phoenix:20260623T210000
DTSTAMP:20260424T172338
CREATED:20240912T004100Z
LAST-MODIFIED:20250821T141556Z
UID:25933-1782241200-1782248400@ravencafe.com
SUMMARY:Movie Night!
DESCRIPTION:
URL:https://ravencafe.com/event/movie-night-181/
CATEGORIES:Raven Events
END:VEVENT
BEGIN:VEVENT
DTSTART;VALUE=DATE:20260624
DTEND;VALUE=DATE:20260625
DTSTAMP:20260424T172338
CREATED:20240911T041116Z
LAST-MODIFIED:20250821T141555Z
UID:25903-1782259200-1782345599@ravencafe.com
SUMMARY:1/2 off Rose ALL day!
DESCRIPTION:
URL:https://ravencafe.com/event/1-2-off-rose-all-day-181/
CATEGORIES:Raven Events
END:VEVENT
END:VCALENDAR