BEGIN:VCALENDAR
VERSION:2.0
PRODID:-//Raven Café - ECPv6.15.20//NONSGML v1.0//EN
CALSCALE:GREGORIAN
METHOD:PUBLISH
X-ORIGINAL-URL:https://ravencafe.com
X-WR-CALDESC:Events for Raven Café
REFRESH-INTERVAL;VALUE=DURATION:PT1H
X-Robots-Tag:noindex
X-PUBLISHED-TTL:PT1H
BEGIN:VTIMEZONE
TZID:America/Phoenix
BEGIN:STANDARD
TZOFFSETFROM:-0700
TZOFFSETTO:-0700
TZNAME:MST
DTSTART:20250101T000000
END:STANDARD
END:VTIMEZONE
BEGIN:VEVENT
DTSTART;TZID=America/Phoenix:20260908T190000
DTEND;TZID=America/Phoenix:20260908T210000
DTSTAMP:20260424T211219
CREATED:20241130T184129Z
LAST-MODIFIED:20250814T081132Z
UID:28208-1788894000-1788901200@ravencafe.com
SUMMARY:Movie Night!
DESCRIPTION:
URL:https://ravencafe.com/event/movie-night-192/
CATEGORIES:Raven Events
END:VEVENT
BEGIN:VEVENT
DTSTART;VALUE=DATE:20260909
DTEND;VALUE=DATE:20260910
DTSTAMP:20260424T211219
CREATED:20241202T195546Z
LAST-MODIFIED:20250814T081133Z
UID:28258-1788912000-1788998399@ravencafe.com
SUMMARY:1/2 off Rose ALL day!
DESCRIPTION:
URL:https://ravencafe.com/event/1-2-off-rose-all-day-192/
CATEGORIES:Raven Events
END:VEVENT
BEGIN:VEVENT
DTSTART;TZID=America/Phoenix:20260913T110000
DTEND;TZID=America/Phoenix:20260913T140000
DTSTAMP:20260424T211219
CREATED:20241204T214153Z
LAST-MODIFIED:20250814T081133Z
UID:28309-1789297200-1789308000@ravencafe.com
SUMMARY:Zach Dominguez and Cozzy Bohrman
DESCRIPTION:Join us for brunch every Sunday. Live music from 11-2p\n1st Sunday – Lee Zimmer. Classical and Spanish guitar\n2nd Sunday – Zach & Cozzy. Zach plays our house piano accompanied by Cozzy Bohrman on bass. Chillhop/jazz\n3rd Sunday – Jonathan Best. Local jazz piano player and composer.\n4th Sunday – Michael Jaramillo. Jazz guitar
URL:https://ravencafe.com/event/zach-dominguez-and-cozzy-bohrman-79/
CATEGORIES:Raven Events
END:VEVENT
BEGIN:VEVENT
DTSTART;TZID=America/Phoenix:20260915T190000
DTEND;TZID=America/Phoenix:20260915T210000
DTSTAMP:20260424T211219
CREATED:20241207T003458Z
LAST-MODIFIED:20250814T081134Z
UID:28356-1789498800-1789506000@ravencafe.com
SUMMARY:Movie Night!
DESCRIPTION:
URL:https://ravencafe.com/event/movie-night-193/
CATEGORIES:Raven Events
END:VEVENT
BEGIN:VEVENT
DTSTART;VALUE=DATE:20260916
DTEND;VALUE=DATE:20260917
DTSTAMP:20260424T211219
CREATED:20241207T003458Z
LAST-MODIFIED:20250814T081134Z
UID:28357-1789516800-1789603199@ravencafe.com
SUMMARY:1/2 off Rose ALL day!
DESCRIPTION:
URL:https://ravencafe.com/event/1-2-off-rose-all-day-193/
CATEGORIES:Raven Events
END:VEVENT
BEGIN:VEVENT
DTSTART;TZID=America/Phoenix:20260920T110000
DTEND;TZID=America/Phoenix:20260920T140000
DTSTAMP:20260424T211219
CREATED:20241209T151202Z
LAST-MODIFIED:20250814T081134Z
UID:28426-1789902000-1789912800@ravencafe.com
SUMMARY:Jonathan Best
DESCRIPTION:Join us for brunch every Sunday. Live music from 11-2p\n1st Sunday – Lee Zimmer. Classical and Spanish guitar\n2nd Sunday – Zach & Cozzy. Zach plays our house piano accompanied by Cozzy Bohrman on bass. Chillhop/jazz\n3rd Sunday – Jonathan Best. Local jazz piano player and composer.\n4th Sunday – Michael Jaramillo. Jazz guitar
URL:https://ravencafe.com/event/jonathan-best-45/
CATEGORIES:Raven Events
END:VEVENT
BEGIN:VEVENT
DTSTART;TZID=America/Phoenix:20260922T190000
DTEND;TZID=America/Phoenix:20260922T210000
DTSTAMP:20260424T211219
CREATED:20241214T112815Z
LAST-MODIFIED:20250814T081135Z
UID:28549-1790103600-1790110800@ravencafe.com
SUMMARY:Movie Night!
DESCRIPTION:
URL:https://ravencafe.com/event/movie-night-194/
CATEGORIES:Raven Events
END:VEVENT
BEGIN:VEVENT
DTSTART;VALUE=DATE:20260923
DTEND;VALUE=DATE:20260924
DTSTAMP:20260424T211219
CREATED:20241213T210829Z
LAST-MODIFIED:20250814T081135Z
UID:28530-1790121600-1790207999@ravencafe.com
SUMMARY:1/2 off Rose ALL day!
DESCRIPTION:
URL:https://ravencafe.com/event/1-2-off-rose-all-day-194/
CATEGORIES:Raven Events
END:VEVENT
BEGIN:VEVENT
DTSTART;TZID=America/Phoenix:20260927T110000
DTEND;TZID=America/Phoenix:20260927T140000
DTSTAMP:20260424T211219
CREATED:20241216T231649Z
LAST-MODIFIED:20250814T081135Z
UID:28616-1790506800-1790517600@ravencafe.com
SUMMARY:Michael Jaramillo
DESCRIPTION:Join us for brunch every Sunday. Live music from 11-2p\n1st Sunday – Lee Zimmer. Classical and Spanish guitar\n2nd Sunday – Zach & Cozzy. Zach plays our house piano accompanied by Cozzy Bohrman on bass. Chillhop/jazz\n3rd Sunday – Jonathan Best. Local jazz piano player and composer.\n4th Sunday – Michael Jaramillo. Jazz guitar
URL:https://ravencafe.com/event/michael-jaramillo-45/
CATEGORIES:Raven Events
END:VEVENT
BEGIN:VEVENT
DTSTART;TZID=America/Phoenix:20260929T190000
DTEND;TZID=America/Phoenix:20260929T210000
DTSTAMP:20260424T211219
CREATED:20241221T052248Z
LAST-MODIFIED:20250814T081136Z
UID:28709-1790708400-1790715600@ravencafe.com
SUMMARY:Movie Night!
DESCRIPTION:
URL:https://ravencafe.com/event/movie-night-195/
CATEGORIES:Raven Events
END:VEVENT
BEGIN:VEVENT
DTSTART;VALUE=DATE:20260930
DTEND;VALUE=DATE:20261001
DTSTAMP:20260424T211219
CREATED:20241221T052249Z
LAST-MODIFIED:20250814T081136Z
UID:28710-1790726400-1790812799@ravencafe.com
SUMMARY:1/2 off Rose ALL day!
DESCRIPTION:
URL:https://ravencafe.com/event/1-2-off-rose-all-day-195/
CATEGORIES:Raven Events
END:VEVENT
BEGIN:VEVENT
DTSTART;TZID=America/Phoenix:20261001T180000
DTEND;TZID=America/Phoenix:20261001T210000
DTSTAMP:20260424T211219
CREATED:20241231T141335Z
LAST-MODIFIED:20250814T081137Z
UID:28941-1790877600-1790888400@ravencafe.com
SUMMARY:1st Thursday Jazz Jam! This month’s host-
DESCRIPTION:Join us this Thursday and every 1st Thursday for our Jazz Jam. Hosted by a new house band each month\, it is an opportunity for local players to showcase their talents and connect with others. This is no amateur night\, you’ll be blown away! (Soloists bring a chart in the right key and sign up early!)
URL:https://ravencafe.com/event/1st-thursday-jazz-jam-this-months-host-45/
CATEGORIES:Raven Events
END:VEVENT
BEGIN:VEVENT
DTSTART;TZID=America/Phoenix:20261004T110000
DTEND;TZID=America/Phoenix:20261004T140000
DTSTAMP:20260424T211219
CREATED:20241231T141335Z
LAST-MODIFIED:20250814T081137Z
UID:28942-1791111600-1791122400@ravencafe.com
SUMMARY:Lee Zimmer
DESCRIPTION:Join us for brunch every Sunday. Live music from 11-2p\n1st Sunday – Lee Zimmer. Classical and Spanish guitar\n2nd Sunday – Zach & Cozzy. Zach plays our house piano accompanied by Cozzy Bohrman on bass. Chillhop/jazz\n3rd Sunday – Jonathan Best. Local jazz piano player and composer.\n4th Sunday – Michael Jaramillo. Jazz guitar
URL:https://ravencafe.com/event/lee-zimmer-45/
CATEGORIES:Raven Events
END:VEVENT
BEGIN:VEVENT
DTSTART;TZID=America/Phoenix:20261006T190000
DTEND;TZID=America/Phoenix:20261006T210000
DTSTAMP:20260424T211219
CREATED:20241231T141336Z
LAST-MODIFIED:20250814T081138Z
UID:28943-1791313200-1791320400@ravencafe.com
SUMMARY:Movie Night!
DESCRIPTION:
URL:https://ravencafe.com/event/movie-night-196/
CATEGORIES:Raven Events
END:VEVENT
BEGIN:VEVENT
DTSTART;VALUE=DATE:20261007
DTEND;VALUE=DATE:20261008
DTSTAMP:20260424T211219
CREATED:20241231T141336Z
LAST-MODIFIED:20250814T081138Z
UID:28944-1791331200-1791417599@ravencafe.com
SUMMARY:1/2 off Rose ALL day!
DESCRIPTION:
URL:https://ravencafe.com/event/1-2-off-rose-all-day-196/
CATEGORIES:Raven Events
END:VEVENT
BEGIN:VEVENT
DTSTART;TZID=America/Phoenix:20261011T110000
DTEND;TZID=America/Phoenix:20261011T140000
DTSTAMP:20260424T211219
CREATED:20250120T033442Z
LAST-MODIFIED:20250814T081139Z
UID:29270-1791716400-1791727200@ravencafe.com
SUMMARY:Zach Dominguez and Cozzy Bohrman
DESCRIPTION:Join us for brunch every Sunday. Live music from 11-2p\n1st Sunday – Lee Zimmer. Classical and Spanish guitar\n2nd Sunday – Zach & Cozzy. Zach plays our house piano accompanied by Cozzy Bohrman on bass. Chillhop/jazz\n3rd Sunday – Jonathan Best. Local jazz piano player and composer.\n4th Sunday – Michael Jaramillo. Jazz guitar
URL:https://ravencafe.com/event/zach-dominguez-and-cozzy-bohrman-80/
CATEGORIES:Raven Events
END:VEVENT
BEGIN:VEVENT
DTSTART;TZID=America/Phoenix:20261013T190000
DTEND;TZID=America/Phoenix:20261013T210000
DTSTAMP:20260424T211219
CREATED:20250120T033443Z
LAST-MODIFIED:20250814T081139Z
UID:29272-1791918000-1791925200@ravencafe.com
SUMMARY:Movie Night!
DESCRIPTION:
URL:https://ravencafe.com/event/movie-night-197/
CATEGORIES:Raven Events
END:VEVENT
BEGIN:VEVENT
DTSTART;VALUE=DATE:20261014
DTEND;VALUE=DATE:20261015
DTSTAMP:20260424T211219
CREATED:20250120T033442Z
LAST-MODIFIED:20250814T081139Z
UID:29271-1791936000-1792022399@ravencafe.com
SUMMARY:1/2 off Rose ALL day!
DESCRIPTION:
URL:https://ravencafe.com/event/1-2-off-rose-all-day-197/
CATEGORIES:Raven Events
END:VEVENT
BEGIN:VEVENT
DTSTART;TZID=America/Phoenix:20261018T110000
DTEND;TZID=America/Phoenix:20261018T140000
DTSTAMP:20260424T211219
CREATED:20250120T033443Z
LAST-MODIFIED:20250814T081140Z
UID:29273-1792321200-1792332000@ravencafe.com
SUMMARY:Jonathan Best
DESCRIPTION:Join us for brunch every Sunday. Live music from 11-2p\n1st Sunday – Lee Zimmer. Classical and Spanish guitar\n2nd Sunday – Zach & Cozzy. Zach plays our house piano accompanied by Cozzy Bohrman on bass. Chillhop/jazz\n3rd Sunday – Jonathan Best. Local jazz piano player and composer.\n4th Sunday – Michael Jaramillo. Jazz guitar
URL:https://ravencafe.com/event/jonathan-best-46/
CATEGORIES:Raven Events
END:VEVENT
BEGIN:VEVENT
DTSTART;TZID=America/Phoenix:20261020T190000
DTEND;TZID=America/Phoenix:20261020T210000
DTSTAMP:20260424T211219
CREATED:20250120T033444Z
LAST-MODIFIED:20250814T081140Z
UID:29274-1792522800-1792530000@ravencafe.com
SUMMARY:Movie Night!
DESCRIPTION:
URL:https://ravencafe.com/event/movie-night-198/
CATEGORIES:Raven Events
END:VEVENT
BEGIN:VEVENT
DTSTART;VALUE=DATE:20261021
DTEND;VALUE=DATE:20261022
DTSTAMP:20260424T211219
CREATED:20250120T033444Z
LAST-MODIFIED:20250814T081141Z
UID:29275-1792540800-1792627199@ravencafe.com
SUMMARY:1/2 off Rose ALL day!
DESCRIPTION:
URL:https://ravencafe.com/event/1-2-off-rose-all-day-198/
CATEGORIES:Raven Events
END:VEVENT
BEGIN:VEVENT
DTSTART;TZID=America/Phoenix:20261025T110000
DTEND;TZID=America/Phoenix:20261025T140000
DTSTAMP:20260424T211219
CREATED:20250120T033445Z
LAST-MODIFIED:20250814T081141Z
UID:29276-1792926000-1792936800@ravencafe.com
SUMMARY:Michael Jaramillo
DESCRIPTION:Join us for brunch every Sunday. Live music from 11-2p\n1st Sunday – Lee Zimmer. Classical and Spanish guitar\n2nd Sunday – Zach & Cozzy. Zach plays our house piano accompanied by Cozzy Bohrman on bass. Chillhop/jazz\n3rd Sunday – Jonathan Best. Local jazz piano player and composer.\n4th Sunday – Michael Jaramillo. Jazz guitar
URL:https://ravencafe.com/event/michael-jaramillo-46/
CATEGORIES:Raven Events
END:VEVENT
BEGIN:VEVENT
DTSTART;TZID=America/Phoenix:20261027T190000
DTEND;TZID=America/Phoenix:20261027T210000
DTSTAMP:20260424T211219
CREATED:20250120T033445Z
LAST-MODIFIED:20250814T081142Z
UID:29277-1793127600-1793134800@ravencafe.com
SUMMARY:Movie Night!
DESCRIPTION:
URL:https://ravencafe.com/event/movie-night-199/
CATEGORIES:Raven Events
END:VEVENT
BEGIN:VEVENT
DTSTART;VALUE=DATE:20261028
DTEND;VALUE=DATE:20261029
DTSTAMP:20260424T211219
CREATED:20250120T033446Z
LAST-MODIFIED:20250814T081141Z
UID:29278-1793145600-1793231999@ravencafe.com
SUMMARY:1/2 off Rose ALL day!
DESCRIPTION:
URL:https://ravencafe.com/event/1-2-off-rose-all-day-199/
CATEGORIES:Raven Events
END:VEVENT
BEGIN:VEVENT
DTSTART;TZID=America/Phoenix:20261101T110000
DTEND;TZID=America/Phoenix:20261101T140000
DTSTAMP:20260424T211219
CREATED:20250120T033447Z
LAST-MODIFIED:20250814T081142Z
UID:29279-1793530800-1793541600@ravencafe.com
SUMMARY:Lee Zimmer
DESCRIPTION:Join us for brunch every Sunday. Live music from 11-2p\n1st Sunday – Lee Zimmer. Classical and Spanish guitar\n2nd Sunday – Zach & Cozzy. Zach plays our house piano accompanied by Cozzy Bohrman on bass. Chillhop/jazz\n3rd Sunday – Jonathan Best. Local jazz piano player and composer.\n4th Sunday – Michael Jaramillo. Jazz guitar
URL:https://ravencafe.com/event/lee-zimmer-46/
CATEGORIES:Raven Events
END:VEVENT
BEGIN:VEVENT
DTSTART;TZID=America/Phoenix:20261103T190000
DTEND;TZID=America/Phoenix:20261103T210000
DTSTAMP:20260424T211219
CREATED:20250122T155839Z
LAST-MODIFIED:20250814T081143Z
UID:29356-1793732400-1793739600@ravencafe.com
SUMMARY:Movie Night!
DESCRIPTION:
URL:https://ravencafe.com/event/movie-night-200/
CATEGORIES:Raven Events
END:VEVENT
BEGIN:VEVENT
DTSTART;VALUE=DATE:20261104
DTEND;VALUE=DATE:20261105
DTSTAMP:20260424T211219
CREATED:20250125T015707Z
LAST-MODIFIED:20250814T081143Z
UID:29414-1793750400-1793836799@ravencafe.com
SUMMARY:1/2 off Rose ALL day!
DESCRIPTION:
URL:https://ravencafe.com/event/1-2-off-rose-all-day-200/
CATEGORIES:Raven Events
END:VEVENT
BEGIN:VEVENT
DTSTART;TZID=America/Phoenix:20261105T180000
DTEND;TZID=America/Phoenix:20261105T210000
DTSTAMP:20260424T211219
CREATED:20250216T202718Z
LAST-MODIFIED:20250814T081143Z
UID:29987-1793901600-1793912400@ravencafe.com
SUMMARY:1st Thursday Jazz Jam! This month’s host-
DESCRIPTION:Join us this Thursday and every 1st Thursday for our Jazz Jam. Hosted by a new house band each month\, it is an opportunity for local players to showcase their talents and connect with others. This is no amateur night\, you’ll be blown away! (Soloists bring a chart in the right key and sign up early!)
URL:https://ravencafe.com/event/1st-thursday-jazz-jam-this-months-host-46/
CATEGORIES:Raven Events
END:VEVENT
BEGIN:VEVENT
DTSTART;TZID=America/Phoenix:20261108T110000
DTEND;TZID=America/Phoenix:20261108T140000
DTSTAMP:20260424T211219
CREATED:20250216T202718Z
LAST-MODIFIED:20250814T081144Z
UID:29988-1794135600-1794146400@ravencafe.com
SUMMARY:Zach Dominguez and Cozzy Bohrman
DESCRIPTION:Join us for brunch every Sunday. Live music from 11-2p\n1st Sunday – Lee Zimmer. Classical and Spanish guitar\n2nd Sunday – Zach & Cozzy. Zach plays our house piano accompanied by Cozzy Bohrman on bass. Chillhop/jazz\n3rd Sunday – Jonathan Best. Local jazz piano player and composer.\n4th Sunday – Michael Jaramillo. Jazz guitar
URL:https://ravencafe.com/event/zach-dominguez-and-cozzy-bohrman-81/
CATEGORIES:Raven Events
END:VEVENT
BEGIN:VEVENT
DTSTART;TZID=America/Phoenix:20261110T190000
DTEND;TZID=America/Phoenix:20261110T210000
DTSTAMP:20260424T211219
CREATED:20250216T202719Z
LAST-MODIFIED:20250814T081144Z
UID:29989-1794337200-1794344400@ravencafe.com
SUMMARY:Movie Night!
DESCRIPTION:
URL:https://ravencafe.com/event/movie-night-201/
CATEGORIES:Raven Events
END:VEVENT
END:VCALENDAR