BEGIN:VCALENDAR
VERSION:2.0
PRODID:-//Raven Café - ECPv6.15.20//NONSGML v1.0//EN
CALSCALE:GREGORIAN
METHOD:PUBLISH
X-WR-CALNAME:Raven Café
X-ORIGINAL-URL:https://ravencafe.com
X-WR-CALDESC:Events for Raven Café
REFRESH-INTERVAL;VALUE=DURATION:PT1H
X-Robots-Tag:noindex
X-PUBLISHED-TTL:PT1H
BEGIN:VTIMEZONE
TZID:America/Phoenix
BEGIN:STANDARD
TZOFFSETFROM:-0700
TZOFFSETTO:-0700
TZNAME:MST
DTSTART:20240101T000000
END:STANDARD
END:VTIMEZONE
BEGIN:VEVENT
DTSTART;TZID=America/Phoenix:20251214T110000
DTEND;TZID=America/Phoenix:20251214T140000
DTSTAMP:20260424T214438
CREATED:20240306T040244Z
LAST-MODIFIED:20250823T201605Z
UID:19788-1765710000-1765720800@ravencafe.com
SUMMARY:Zach Dominguez and Cozzy Bohrman
DESCRIPTION:Join us for brunch every Sunday. Live music from 11-2p\n1st Sunday – Lee Zimmer. Classical and Spanish guitar\n2nd Sunday – Zach & Cozzy. Zach plays our house piano accompanied by Cozzy Bohrman on bass. Chillhop/jazz\n3rd Sunday – Jonathan Best. Local jazz piano player and composer.\n4th Sunday – Michael Jaramillo. Jazz guitar
URL:https://ravencafe.com/event/zach-dominguez-and-cozzy-bohrman-67/
CATEGORIES:Raven Events
END:VEVENT
BEGIN:VEVENT
DTSTART;VALUE=DATE:20251210
DTEND;VALUE=DATE:20251211
DTSTAMP:20260424T214438
CREATED:20240303T211017Z
LAST-MODIFIED:20250825T154526Z
UID:19721-1765324800-1765411199@ravencafe.com
SUMMARY:1/2 off Rose ALL day!
DESCRIPTION:
URL:https://ravencafe.com/event/1-2-off-rose-all-day-153/
CATEGORIES:Raven Events
END:VEVENT
BEGIN:VEVENT
DTSTART;TZID=America/Phoenix:20251209T190000
DTEND;TZID=America/Phoenix:20251209T210000
DTSTAMP:20260424T214438
CREATED:20240229T002933Z
LAST-MODIFIED:20250825T154526Z
UID:19615-1765306800-1765314000@ravencafe.com
SUMMARY:Movie Night!
DESCRIPTION:
URL:https://ravencafe.com/event/movie-night-153/
CATEGORIES:Raven Events
END:VEVENT
BEGIN:VEVENT
DTSTART;TZID=America/Phoenix:20251207T110000
DTEND;TZID=America/Phoenix:20251207T140000
DTSTAMP:20260424T214438
CREATED:20240228T042843Z
LAST-MODIFIED:20250825T154525Z
UID:19591-1765105200-1765116000@ravencafe.com
SUMMARY:Lee Zimmer
DESCRIPTION:Join us for brunch every Sunday. Live music from 11-2p\n1st Sunday – Lee Zimmer. Classical and Spanish guitar\n2nd Sunday – Zach & Cozzy. Zach plays our house piano accompanied by Cozzy Bohrman on bass. Chillhop/jazz\n3rd Sunday – Jonathan Best. Local jazz piano player and composer.\n4th Sunday – Michael Jaramillo. Jazz guitar
URL:https://ravencafe.com/event/lee-zimmer-35/
CATEGORIES:Raven Events
END:VEVENT
BEGIN:VEVENT
DTSTART;TZID=America/Phoenix:20251204T180000
DTEND;TZID=America/Phoenix:20251204T210000
DTSTAMP:20260424T214438
CREATED:20240227T111311Z
LAST-MODIFIED:20250825T154525Z
UID:19566-1764871200-1764882000@ravencafe.com
SUMMARY:1st Thursday Jazz Jam! This month’s host-
DESCRIPTION:Join us this Thursday and every 1st Thursday for our Jazz Jam. Hosted by a new house band each month\, it is an opportunity for local players to showcase their talents and connect with others. This is no amateur night\, you’ll be blown away! (Soloists bring a chart in the right key and sign up early!)
URL:https://ravencafe.com/event/1st-thursday-jazz-jam-this-months-host-35/
CATEGORIES:Raven Events
END:VEVENT
BEGIN:VEVENT
DTSTART;VALUE=DATE:20251203
DTEND;VALUE=DATE:20251204
DTSTAMP:20260424T214438
CREATED:20240227T111310Z
LAST-MODIFIED:20250825T200913Z
UID:19565-1764720000-1764806399@ravencafe.com
SUMMARY:1/2 off Rose ALL day!
DESCRIPTION:
URL:https://ravencafe.com/event/1-2-off-rose-all-day-152/
CATEGORIES:Raven Events
END:VEVENT
BEGIN:VEVENT
DTSTART;TZID=America/Phoenix:20251202T190000
DTEND;TZID=America/Phoenix:20251202T210000
DTSTAMP:20260424T214438
CREATED:20240227T111310Z
LAST-MODIFIED:20250826T222414Z
UID:19564-1764702000-1764709200@ravencafe.com
SUMMARY:Movie Night!
DESCRIPTION:
URL:https://ravencafe.com/event/movie-night-152/
CATEGORIES:Raven Events
END:VEVENT
BEGIN:VEVENT
DTSTART;TZID=America/Phoenix:20251130T110000
DTEND;TZID=America/Phoenix:20251130T140000
DTSTAMP:20260424T214438
CREATED:20240218T212917Z
LAST-MODIFIED:20250827T023139Z
UID:19475-1764500400-1764511200@ravencafe.com
SUMMARY:Zach Dominguez and Cozzy Bohrman
DESCRIPTION:
URL:https://ravencafe.com/event/zach-dominguez-and-cozzy-bohrman-66/
CATEGORIES:Raven Events
END:VEVENT
BEGIN:VEVENT
DTSTART;VALUE=DATE:20251126
DTEND;VALUE=DATE:20251127
DTSTAMP:20260424T214438
CREATED:20240215T001739Z
LAST-MODIFIED:20250827T023138Z
UID:19288-1764115200-1764201599@ravencafe.com
SUMMARY:1/2 off Rose ALL day!
DESCRIPTION:
URL:https://ravencafe.com/event/1-2-off-rose-all-day-151/
CATEGORIES:Raven Events
END:VEVENT
BEGIN:VEVENT
DTSTART;TZID=America/Phoenix:20251125T190000
DTEND;TZID=America/Phoenix:20251125T210000
DTSTAMP:20260424T214438
CREATED:20240214T043614Z
LAST-MODIFIED:20250827T023138Z
UID:19257-1764097200-1764104400@ravencafe.com
SUMMARY:Movie Night!
DESCRIPTION:
URL:https://ravencafe.com/event/movie-night-151/
CATEGORIES:Raven Events
END:VEVENT
BEGIN:VEVENT
DTSTART;TZID=America/Phoenix:20251123T110000
DTEND;TZID=America/Phoenix:20251123T140000
DTSTAMP:20260424T214438
CREATED:20240211T211059Z
LAST-MODIFIED:20250827T023137Z
UID:19180-1763895600-1763906400@ravencafe.com
SUMMARY:Michael Jaramillo
DESCRIPTION:Join us for brunch every Sunday. Live music from 11-2p\n1st Sunday – Lee Zimmer. Classical and Spanish guitar\n2nd Sunday – Zach & Cozzy. Zach plays our house piano accompanied by Cozzy Bohrman on bass. Chillhop/jazz\n3rd Sunday – Jonathan Best. Local jazz piano player and composer.\n4th Sunday – Michael Jaramillo. Jazz guitar
URL:https://ravencafe.com/event/michael-jaramillo-35/
CATEGORIES:Raven Events
END:VEVENT
BEGIN:VEVENT
DTSTART;VALUE=DATE:20251119
DTEND;VALUE=DATE:20251120
DTSTAMP:20260424T214438
CREATED:20240207T042233Z
LAST-MODIFIED:20250827T023137Z
UID:18994-1763510400-1763596799@ravencafe.com
SUMMARY:1/2 off Rose ALL day!
DESCRIPTION:
URL:https://ravencafe.com/event/1-2-off-rose-all-day-150/
CATEGORIES:Raven Events
END:VEVENT
BEGIN:VEVENT
DTSTART;TZID=America/Phoenix:20251118T190000
DTEND;TZID=America/Phoenix:20251118T210000
DTSTAMP:20260424T214438
CREATED:20240208T003349Z
LAST-MODIFIED:20250827T023136Z
UID:19043-1763492400-1763499600@ravencafe.com
SUMMARY:Movie Night!
DESCRIPTION:
URL:https://ravencafe.com/event/movie-night-150/
CATEGORIES:Raven Events
END:VEVENT
BEGIN:VEVENT
DTSTART;TZID=America/Phoenix:20251116T110000
DTEND;TZID=America/Phoenix:20251116T140000
DTSTAMP:20260424T214438
CREATED:20240206T204156Z
LAST-MODIFIED:20250827T023136Z
UID:18728-1763290800-1763301600@ravencafe.com
SUMMARY:Jonathan Best
DESCRIPTION:Join us for brunch every Sunday. Live music from 11-2p\n1st Sunday – Lee Zimmer. Classical and Spanish guitar\n2nd Sunday – Zach & Cozzy. Zach plays our house piano accompanied by Cozzy Bohrman on bass. Chillhop/jazz\n3rd Sunday – Jonathan Best. Local jazz piano player and composer.\n4th Sunday – Michael Jaramillo. Jazz guitar
URL:https://ravencafe.com/event/jonathan-best-35/
CATEGORIES:Raven Events
END:VEVENT
BEGIN:VEVENT
DTSTART;VALUE=DATE:20251112
DTEND;VALUE=DATE:20251113
DTSTAMP:20260424T214438
CREATED:20240206T204156Z
LAST-MODIFIED:20250827T023135Z
UID:18726-1762905600-1762991999@ravencafe.com
SUMMARY:1/2 off Rose ALL day!
DESCRIPTION:
URL:https://ravencafe.com/event/1-2-off-rose-all-day-149/
CATEGORIES:Raven Events
END:VEVENT
BEGIN:VEVENT
DTSTART;TZID=America/Phoenix:20251111T190000
DTEND;TZID=America/Phoenix:20251111T210000
DTSTAMP:20260424T214438
CREATED:20240206T204156Z
LAST-MODIFIED:20250827T023135Z
UID:18727-1762887600-1762894800@ravencafe.com
SUMMARY:Movie Night!
DESCRIPTION:
URL:https://ravencafe.com/event/movie-night-149/
CATEGORIES:Raven Events
END:VEVENT
BEGIN:VEVENT
DTSTART;TZID=America/Phoenix:20251109T110000
DTEND;TZID=America/Phoenix:20251109T140000
DTSTAMP:20260424T214438
CREATED:20240206T204156Z
LAST-MODIFIED:20250827T023134Z
UID:18725-1762686000-1762696800@ravencafe.com
SUMMARY:Zach Dominguez and Cozzy Bohrman
DESCRIPTION:Join us for brunch every Sunday. Live music from 11-2p\n1st Sunday – Lee Zimmer. Classical and Spanish guitar\n2nd Sunday – Zach & Cozzy. Zach plays our house piano accompanied by Cozzy Bohrman on bass. Chillhop/jazz\n3rd Sunday – Jonathan Best. Local jazz piano player and composer.\n4th Sunday – Michael Jaramillo. Jazz guitar
URL:https://ravencafe.com/event/zach-dominguez-and-cozzy-bohrman-65/
CATEGORIES:Raven Events
END:VEVENT
BEGIN:VEVENT
DTSTART;TZID=America/Phoenix:20251106T180000
DTEND;TZID=America/Phoenix:20251106T210000
DTSTAMP:20260424T214438
CREATED:20240206T204156Z
LAST-MODIFIED:20250827T023134Z
UID:18724-1762452000-1762462800@ravencafe.com
SUMMARY:1st Thursday Jazz Jam! This month’s host-
DESCRIPTION:Join us this Thursday and every 1st Thursday for our Jazz Jam. Hosted by a new house band each month\, it is an opportunity for local players to showcase their talents and connect with others. This is no amateur night\, you’ll be blown away! (Soloists bring a chart in the right key and sign up early!)
URL:https://ravencafe.com/event/1st-thursday-jazz-jam-this-months-host-34/
CATEGORIES:Raven Events
END:VEVENT
BEGIN:VEVENT
DTSTART;VALUE=DATE:20251105
DTEND;VALUE=DATE:20251106
DTSTAMP:20260424T214438
CREATED:20240206T204155Z
LAST-MODIFIED:20250827T023133Z
UID:18723-1762300800-1762387199@ravencafe.com
SUMMARY:1/2 off Rose ALL day!
DESCRIPTION:
URL:https://ravencafe.com/event/1-2-off-rose-all-day-148/
CATEGORIES:Raven Events
END:VEVENT
BEGIN:VEVENT
DTSTART;TZID=America/Phoenix:20251104T190000
DTEND;TZID=America/Phoenix:20251104T210000
DTSTAMP:20260424T214438
CREATED:20240206T204155Z
LAST-MODIFIED:20250827T023134Z
UID:18722-1762282800-1762290000@ravencafe.com
SUMMARY:Movie Night!
DESCRIPTION:
URL:https://ravencafe.com/event/movie-night-148/
CATEGORIES:Raven Events
END:VEVENT
BEGIN:VEVENT
DTSTART;TZID=America/Phoenix:20251102T110000
DTEND;TZID=America/Phoenix:20251102T140000
DTSTAMP:20260424T214438
CREATED:20240206T204155Z
LAST-MODIFIED:20250827T023133Z
UID:18721-1762081200-1762092000@ravencafe.com
SUMMARY:Lee Zimmer
DESCRIPTION:Join us for brunch every Sunday. Live music from 11-2p\n1st Sunday – Lee Zimmer. Classical and Spanish guitar\n2nd Sunday – Zach & Cozzy. Zach plays our house piano accompanied by Cozzy Bohrman on bass. Chillhop/jazz\n3rd Sunday – Jonathan Best. Local jazz piano player and composer.\n4th Sunday – Michael Jaramillo. Jazz guitar
URL:https://ravencafe.com/event/lee-zimmer-34/
CATEGORIES:Raven Events
END:VEVENT
BEGIN:VEVENT
DTSTART;VALUE=DATE:20251029
DTEND;VALUE=DATE:20251030
DTSTAMP:20260424T214438
CREATED:20240206T204155Z
LAST-MODIFIED:20250827T023132Z
UID:18720-1761696000-1761782399@ravencafe.com
SUMMARY:1/2 off Rose ALL day!
DESCRIPTION:
URL:https://ravencafe.com/event/1-2-off-rose-all-day-147/
CATEGORIES:Raven Events
END:VEVENT
BEGIN:VEVENT
DTSTART;TZID=America/Phoenix:20251028T190000
DTEND;TZID=America/Phoenix:20251028T210000
DTSTAMP:20260424T214438
CREATED:20240206T204155Z
LAST-MODIFIED:20250827T023132Z
UID:18719-1761678000-1761685200@ravencafe.com
SUMMARY:Movie Night!
DESCRIPTION:
URL:https://ravencafe.com/event/movie-night-147/
CATEGORIES:Raven Events
END:VEVENT
BEGIN:VEVENT
DTSTART;TZID=America/Phoenix:20251026T110000
DTEND;TZID=America/Phoenix:20251026T140000
DTSTAMP:20260424T214438
CREATED:20240206T204155Z
LAST-MODIFIED:20250827T023131Z
UID:18718-1761476400-1761487200@ravencafe.com
SUMMARY:Michael Jaramillo
DESCRIPTION:Join us for brunch every Sunday. Live music from 11-2p\n1st Sunday – Lee Zimmer. Classical and Spanish guitar\n2nd Sunday – Zach & Cozzy. Zach plays our house piano accompanied by Cozzy Bohrman on bass. Chillhop/jazz\n3rd Sunday – Jonathan Best. Local jazz piano player and composer.\n4th Sunday – Michael Jaramillo. Jazz guitar
URL:https://ravencafe.com/event/michael-jaramillo-34/
CATEGORIES:Raven Events
END:VEVENT
BEGIN:VEVENT
DTSTART;VALUE=DATE:20251022
DTEND;VALUE=DATE:20251023
DTSTAMP:20260424T214438
CREATED:20240206T204154Z
LAST-MODIFIED:20250827T023131Z
UID:18716-1761091200-1761177599@ravencafe.com
SUMMARY:1/2 off Rose ALL day!
DESCRIPTION:
URL:https://ravencafe.com/event/1-2-off-rose-all-day-146/
CATEGORIES:Raven Events
END:VEVENT
BEGIN:VEVENT
DTSTART;TZID=America/Phoenix:20251021T190000
DTEND;TZID=America/Phoenix:20251021T210000
DTSTAMP:20260424T214438
CREATED:20240206T204154Z
LAST-MODIFIED:20250827T023131Z
UID:18717-1761073200-1761080400@ravencafe.com
SUMMARY:Movie Night!
DESCRIPTION:
URL:https://ravencafe.com/event/movie-night-146/
CATEGORIES:Raven Events
END:VEVENT
BEGIN:VEVENT
DTSTART;TZID=America/Phoenix:20251019T110000
DTEND;TZID=America/Phoenix:20251019T140000
DTSTAMP:20260424T214438
CREATED:20240206T204154Z
LAST-MODIFIED:20250827T023130Z
UID:18715-1760871600-1760882400@ravencafe.com
SUMMARY:Jonathan Best
DESCRIPTION:Join us for brunch every Sunday. Live music from 11-2p\n1st Sunday – Lee Zimmer. Classical and Spanish guitar\n2nd Sunday – Zach & Cozzy. Zach plays our house piano accompanied by Cozzy Bohrman on bass. Chillhop/jazz\n3rd Sunday – Jonathan Best. Local jazz piano player and composer.\n4th Sunday – Michael Jaramillo. Jazz guitar
URL:https://ravencafe.com/event/jonathan-best-34/
CATEGORIES:Raven Events
END:VEVENT
BEGIN:VEVENT
DTSTART;VALUE=DATE:20251015
DTEND;VALUE=DATE:20251016
DTSTAMP:20260424T214438
CREATED:20240206T204154Z
LAST-MODIFIED:20250827T023130Z
UID:18714-1760486400-1760572799@ravencafe.com
SUMMARY:1/2 off Rose ALL day!
DESCRIPTION:
URL:https://ravencafe.com/event/1-2-off-rose-all-day-145/
CATEGORIES:Raven Events
END:VEVENT
BEGIN:VEVENT
DTSTART;TZID=America/Phoenix:20251014T190000
DTEND;TZID=America/Phoenix:20251014T210000
DTSTAMP:20260424T214438
CREATED:20240206T204154Z
LAST-MODIFIED:20250827T023129Z
UID:18713-1760468400-1760475600@ravencafe.com
SUMMARY:Movie Night!
DESCRIPTION:
URL:https://ravencafe.com/event/movie-night-145/
CATEGORIES:Raven Events
END:VEVENT
BEGIN:VEVENT
DTSTART;TZID=America/Phoenix:20251012T110000
DTEND;TZID=America/Phoenix:20251012T140000
DTSTAMP:20260424T214438
CREATED:20240206T204154Z
LAST-MODIFIED:20250827T023129Z
UID:18712-1760266800-1760277600@ravencafe.com
SUMMARY:Zach Dominguez and Cozzy Bohrman
DESCRIPTION:Join us for brunch every Sunday. Live music from 11-2p\n1st Sunday – Lee Zimmer. Classical and Spanish guitar\n2nd Sunday – Zach & Cozzy. Zach plays our house piano accompanied by Cozzy Bohrman on bass. Chillhop/jazz\n3rd Sunday – Jonathan Best. Local jazz piano player and composer.\n4th Sunday – Michael Jaramillo. Jazz guitar
URL:https://ravencafe.com/event/zach-dominguez-and-cozzy-bohrman-64/
CATEGORIES:Raven Events
END:VEVENT
END:VCALENDAR