BEGIN:VCALENDAR
VERSION:2.0
PRODID:-//Raven Café - ECPv6.15.20//NONSGML v1.0//EN
CALSCALE:GREGORIAN
METHOD:PUBLISH
X-WR-CALNAME:Raven Café
X-ORIGINAL-URL:https://ravencafe.com
X-WR-CALDESC:Events for Raven Café
REFRESH-INTERVAL;VALUE=DURATION:PT1H
X-Robots-Tag:noindex
X-PUBLISHED-TTL:PT1H
BEGIN:VTIMEZONE
TZID:America/Phoenix
BEGIN:STANDARD
TZOFFSETFROM:-0700
TZOFFSETTO:-0700
TZNAME:MST
DTSTART:20250101T000000
END:STANDARD
END:VTIMEZONE
BEGIN:VEVENT
DTSTART;TZID=America/Phoenix:20261025T110000
DTEND;TZID=America/Phoenix:20261025T140000
DTSTAMP:20260424T214116
CREATED:20250120T033445Z
LAST-MODIFIED:20250814T081141Z
UID:29276-1792926000-1792936800@ravencafe.com
SUMMARY:Michael Jaramillo
DESCRIPTION:Join us for brunch every Sunday. Live music from 11-2p\n1st Sunday – Lee Zimmer. Classical and Spanish guitar\n2nd Sunday – Zach & Cozzy. Zach plays our house piano accompanied by Cozzy Bohrman on bass. Chillhop/jazz\n3rd Sunday – Jonathan Best. Local jazz piano player and composer.\n4th Sunday – Michael Jaramillo. Jazz guitar
URL:https://ravencafe.com/event/michael-jaramillo-46/
CATEGORIES:Raven Events
END:VEVENT
BEGIN:VEVENT
DTSTART;TZID=America/Phoenix:20261027T190000
DTEND;TZID=America/Phoenix:20261027T210000
DTSTAMP:20260424T214116
CREATED:20250120T033445Z
LAST-MODIFIED:20250814T081142Z
UID:29277-1793127600-1793134800@ravencafe.com
SUMMARY:Movie Night!
DESCRIPTION:
URL:https://ravencafe.com/event/movie-night-199/
CATEGORIES:Raven Events
END:VEVENT
BEGIN:VEVENT
DTSTART;VALUE=DATE:20261028
DTEND;VALUE=DATE:20261029
DTSTAMP:20260424T214116
CREATED:20250120T033446Z
LAST-MODIFIED:20250814T081141Z
UID:29278-1793145600-1793231999@ravencafe.com
SUMMARY:1/2 off Rose ALL day!
DESCRIPTION:
URL:https://ravencafe.com/event/1-2-off-rose-all-day-199/
CATEGORIES:Raven Events
END:VEVENT
BEGIN:VEVENT
DTSTART;TZID=America/Phoenix:20261101T110000
DTEND;TZID=America/Phoenix:20261101T140000
DTSTAMP:20260424T214116
CREATED:20250120T033447Z
LAST-MODIFIED:20250814T081142Z
UID:29279-1793530800-1793541600@ravencafe.com
SUMMARY:Lee Zimmer
DESCRIPTION:Join us for brunch every Sunday. Live music from 11-2p\n1st Sunday – Lee Zimmer. Classical and Spanish guitar\n2nd Sunday – Zach & Cozzy. Zach plays our house piano accompanied by Cozzy Bohrman on bass. Chillhop/jazz\n3rd Sunday – Jonathan Best. Local jazz piano player and composer.\n4th Sunday – Michael Jaramillo. Jazz guitar
URL:https://ravencafe.com/event/lee-zimmer-46/
CATEGORIES:Raven Events
END:VEVENT
BEGIN:VEVENT
DTSTART;TZID=America/Phoenix:20261103T190000
DTEND;TZID=America/Phoenix:20261103T210000
DTSTAMP:20260424T214116
CREATED:20250122T155839Z
LAST-MODIFIED:20250814T081143Z
UID:29356-1793732400-1793739600@ravencafe.com
SUMMARY:Movie Night!
DESCRIPTION:
URL:https://ravencafe.com/event/movie-night-200/
CATEGORIES:Raven Events
END:VEVENT
BEGIN:VEVENT
DTSTART;VALUE=DATE:20261104
DTEND;VALUE=DATE:20261105
DTSTAMP:20260424T214116
CREATED:20250125T015707Z
LAST-MODIFIED:20250814T081143Z
UID:29414-1793750400-1793836799@ravencafe.com
SUMMARY:1/2 off Rose ALL day!
DESCRIPTION:
URL:https://ravencafe.com/event/1-2-off-rose-all-day-200/
CATEGORIES:Raven Events
END:VEVENT
BEGIN:VEVENT
DTSTART;TZID=America/Phoenix:20261105T180000
DTEND;TZID=America/Phoenix:20261105T210000
DTSTAMP:20260424T214116
CREATED:20250216T202718Z
LAST-MODIFIED:20250814T081143Z
UID:29987-1793901600-1793912400@ravencafe.com
SUMMARY:1st Thursday Jazz Jam! This month’s host-
DESCRIPTION:Join us this Thursday and every 1st Thursday for our Jazz Jam. Hosted by a new house band each month\, it is an opportunity for local players to showcase their talents and connect with others. This is no amateur night\, you’ll be blown away! (Soloists bring a chart in the right key and sign up early!)
URL:https://ravencafe.com/event/1st-thursday-jazz-jam-this-months-host-46/
CATEGORIES:Raven Events
END:VEVENT
BEGIN:VEVENT
DTSTART;TZID=America/Phoenix:20261108T110000
DTEND;TZID=America/Phoenix:20261108T140000
DTSTAMP:20260424T214116
CREATED:20250216T202718Z
LAST-MODIFIED:20250814T081144Z
UID:29988-1794135600-1794146400@ravencafe.com
SUMMARY:Zach Dominguez and Cozzy Bohrman
DESCRIPTION:Join us for brunch every Sunday. Live music from 11-2p\n1st Sunday – Lee Zimmer. Classical and Spanish guitar\n2nd Sunday – Zach & Cozzy. Zach plays our house piano accompanied by Cozzy Bohrman on bass. Chillhop/jazz\n3rd Sunday – Jonathan Best. Local jazz piano player and composer.\n4th Sunday – Michael Jaramillo. Jazz guitar
URL:https://ravencafe.com/event/zach-dominguez-and-cozzy-bohrman-81/
CATEGORIES:Raven Events
END:VEVENT
BEGIN:VEVENT
DTSTART;TZID=America/Phoenix:20261110T190000
DTEND;TZID=America/Phoenix:20261110T210000
DTSTAMP:20260424T214116
CREATED:20250216T202719Z
LAST-MODIFIED:20250814T081144Z
UID:29989-1794337200-1794344400@ravencafe.com
SUMMARY:Movie Night!
DESCRIPTION:
URL:https://ravencafe.com/event/movie-night-201/
CATEGORIES:Raven Events
END:VEVENT
BEGIN:VEVENT
DTSTART;VALUE=DATE:20261111
DTEND;VALUE=DATE:20261112
DTSTAMP:20260424T214116
CREATED:20250216T202720Z
LAST-MODIFIED:20250814T081145Z
UID:29990-1794355200-1794441599@ravencafe.com
SUMMARY:1/2 off Rose ALL day!
DESCRIPTION:
URL:https://ravencafe.com/event/1-2-off-rose-all-day-201/
CATEGORIES:Raven Events
END:VEVENT
BEGIN:VEVENT
DTSTART;TZID=America/Phoenix:20261115T110000
DTEND;TZID=America/Phoenix:20261115T140000
DTSTAMP:20260424T214116
CREATED:20250216T202720Z
LAST-MODIFIED:20250814T081145Z
UID:29991-1794740400-1794751200@ravencafe.com
SUMMARY:Jonathan Best
DESCRIPTION:Join us for brunch every Sunday. Live music from 11-2p\n1st Sunday – Lee Zimmer. Classical and Spanish guitar\n2nd Sunday – Zach & Cozzy. Zach plays our house piano accompanied by Cozzy Bohrman on bass. Chillhop/jazz\n3rd Sunday – Jonathan Best. Local jazz piano player and composer.\n4th Sunday – Michael Jaramillo. Jazz guitar
URL:https://ravencafe.com/event/jonathan-best-47/
CATEGORIES:Raven Events
END:VEVENT
BEGIN:VEVENT
DTSTART;TZID=America/Phoenix:20261117T190000
DTEND;TZID=America/Phoenix:20261117T210000
DTSTAMP:20260424T214116
CREATED:20250216T202721Z
LAST-MODIFIED:20250814T081145Z
UID:29993-1794942000-1794949200@ravencafe.com
SUMMARY:Movie Night!
DESCRIPTION:
URL:https://ravencafe.com/event/movie-night-202/
CATEGORIES:Raven Events
END:VEVENT
BEGIN:VEVENT
DTSTART;VALUE=DATE:20261118
DTEND;VALUE=DATE:20261119
DTSTAMP:20260424T214116
CREATED:20250216T202721Z
LAST-MODIFIED:20250814T081146Z
UID:29992-1794960000-1795046399@ravencafe.com
SUMMARY:1/2 off Rose ALL day!
DESCRIPTION:
URL:https://ravencafe.com/event/1-2-off-rose-all-day-202/
CATEGORIES:Raven Events
END:VEVENT
BEGIN:VEVENT
DTSTART;TZID=America/Phoenix:20261122T110000
DTEND;TZID=America/Phoenix:20261122T140000
DTSTAMP:20260424T214116
CREATED:20250216T202722Z
LAST-MODIFIED:20250814T081146Z
UID:29994-1795345200-1795356000@ravencafe.com
SUMMARY:Michael Jaramillo
DESCRIPTION:Join us for brunch every Sunday. Live music from 11-2p\n1st Sunday – Lee Zimmer. Classical and Spanish guitar\n2nd Sunday – Zach & Cozzy. Zach plays our house piano accompanied by Cozzy Bohrman on bass. Chillhop/jazz\n3rd Sunday – Jonathan Best. Local jazz piano player and composer.\n4th Sunday – Michael Jaramillo. Jazz guitar
URL:https://ravencafe.com/event/michael-jaramillo-47/
CATEGORIES:Raven Events
END:VEVENT
BEGIN:VEVENT
DTSTART;TZID=America/Phoenix:20261124T190000
DTEND;TZID=America/Phoenix:20261124T210000
DTSTAMP:20260424T214116
CREATED:20250216T202723Z
LAST-MODIFIED:20250814T081147Z
UID:29996-1795546800-1795554000@ravencafe.com
SUMMARY:Movie Night!
DESCRIPTION:
URL:https://ravencafe.com/event/movie-night-203/
CATEGORIES:Raven Events
END:VEVENT
BEGIN:VEVENT
DTSTART;VALUE=DATE:20261125
DTEND;VALUE=DATE:20261126
DTSTAMP:20260424T214116
CREATED:20250216T202722Z
LAST-MODIFIED:20250814T081146Z
UID:29995-1795564800-1795651199@ravencafe.com
SUMMARY:1/2 off Rose ALL day!
DESCRIPTION:
URL:https://ravencafe.com/event/1-2-off-rose-all-day-203/
CATEGORIES:Raven Events
END:VEVENT
BEGIN:VEVENT
DTSTART;TZID=America/Phoenix:20261129T110000
DTEND;TZID=America/Phoenix:20261129T140000
DTSTAMP:20260424T214116
CREATED:20250226T035653Z
LAST-MODIFIED:20250814T081147Z
UID:30210-1795950000-1795960800@ravencafe.com
SUMMARY:Zach Dominguez and Cozzy Bohrman
DESCRIPTION:
URL:https://ravencafe.com/event/zach-dominguez-and-cozzy-bohrman-82/
CATEGORIES:Raven Events
END:VEVENT
BEGIN:VEVENT
DTSTART;TZID=America/Phoenix:20261201T190000
DTEND;TZID=America/Phoenix:20261201T210000
DTSTAMP:20260424T214116
CREATED:20250226T035659Z
LAST-MODIFIED:20250814T081148Z
UID:30211-1796151600-1796158800@ravencafe.com
SUMMARY:Movie Night!
DESCRIPTION:
URL:https://ravencafe.com/event/movie-night-204/
CATEGORIES:Raven Events
END:VEVENT
BEGIN:VEVENT
DTSTART;VALUE=DATE:20261202
DTEND;VALUE=DATE:20261203
DTSTAMP:20260424T214116
CREATED:20250226T035659Z
LAST-MODIFIED:20250814T081148Z
UID:30212-1796169600-1796255999@ravencafe.com
SUMMARY:1/2 off Rose ALL day!
DESCRIPTION:
URL:https://ravencafe.com/event/1-2-off-rose-all-day-204/
CATEGORIES:Raven Events
END:VEVENT
BEGIN:VEVENT
DTSTART;TZID=America/Phoenix:20261203T180000
DTEND;TZID=America/Phoenix:20261203T210000
DTSTAMP:20260424T214116
CREATED:20250226T035700Z
LAST-MODIFIED:20250814T081148Z
UID:30213-1796320800-1796331600@ravencafe.com
SUMMARY:1st Thursday Jazz Jam! This month’s host-
DESCRIPTION:Join us this Thursday and every 1st Thursday for our Jazz Jam. Hosted by a new house band each month\, it is an opportunity for local players to showcase their talents and connect with others. This is no amateur night\, you’ll be blown away! (Soloists bring a chart in the right key and sign up early!)
URL:https://ravencafe.com/event/1st-thursday-jazz-jam-this-months-host-47/
CATEGORIES:Raven Events
END:VEVENT
BEGIN:VEVENT
DTSTART;TZID=America/Phoenix:20261206T110000
DTEND;TZID=America/Phoenix:20261206T140000
DTSTAMP:20260424T214116
CREATED:20250228T135404Z
LAST-MODIFIED:20250814T110702Z
UID:30275-1796554800-1796565600@ravencafe.com
SUMMARY:Lee Zimmer
DESCRIPTION:Join us for brunch every Sunday. Live music from 11-2p\n1st Sunday – Lee Zimmer. Classical and Spanish guitar\n2nd Sunday – Zach & Cozzy. Zach plays our house piano accompanied by Cozzy Bohrman on bass. Chillhop/jazz\n3rd Sunday – Jonathan Best. Local jazz piano player and composer.\n4th Sunday – Michael Jaramillo. Jazz guitar
URL:https://ravencafe.com/event/lee-zimmer-47/
CATEGORIES:Raven Events
END:VEVENT
BEGIN:VEVENT
DTSTART;TZID=America/Phoenix:20261208T190000
DTEND;TZID=America/Phoenix:20261208T210000
DTSTAMP:20260424T214116
CREATED:20250228T135405Z
LAST-MODIFIED:20250814T110702Z
UID:30276-1796756400-1796763600@ravencafe.com
SUMMARY:Movie Night!
DESCRIPTION:
URL:https://ravencafe.com/event/movie-night-205/
CATEGORIES:Raven Events
END:VEVENT
BEGIN:VEVENT
DTSTART;VALUE=DATE:20261209
DTEND;VALUE=DATE:20261210
DTSTAMP:20260424T214116
CREATED:20250304T105555Z
LAST-MODIFIED:20250814T110702Z
UID:30377-1796774400-1796860799@ravencafe.com
SUMMARY:1/2 off Rose ALL day!
DESCRIPTION:
URL:https://ravencafe.com/event/1-2-off-rose-all-day-205/
CATEGORIES:Raven Events
END:VEVENT
BEGIN:VEVENT
DTSTART;TZID=America/Phoenix:20261213T110000
DTEND;TZID=America/Phoenix:20261213T140000
DTSTAMP:20260424T214116
CREATED:20250308T132821Z
LAST-MODIFIED:20250814T110703Z
UID:30478-1797159600-1797170400@ravencafe.com
SUMMARY:Zach Dominguez and Cozzy Bohrman
DESCRIPTION:Join us for brunch every Sunday. Live music from 11-2p\n1st Sunday – Lee Zimmer. Classical and Spanish guitar\n2nd Sunday – Zach & Cozzy. Zach plays our house piano accompanied by Cozzy Bohrman on bass. Chillhop/jazz\n3rd Sunday – Jonathan Best. Local jazz piano player and composer.\n4th Sunday – Michael Jaramillo. Jazz guitar
URL:https://ravencafe.com/event/zach-dominguez-and-cozzy-bohrman-83/
CATEGORIES:Raven Events
END:VEVENT
BEGIN:VEVENT
DTSTART;TZID=America/Phoenix:20261215T190000
DTEND;TZID=America/Phoenix:20261215T210000
DTSTAMP:20260424T214116
CREATED:20250308T132822Z
LAST-MODIFIED:20250814T110703Z
UID:30479-1797361200-1797368400@ravencafe.com
SUMMARY:Movie Night!
DESCRIPTION:
URL:https://ravencafe.com/event/movie-night-206/
CATEGORIES:Raven Events
END:VEVENT
BEGIN:VEVENT
DTSTART;VALUE=DATE:20261216
DTEND;VALUE=DATE:20261217
DTSTAMP:20260424T214116
CREATED:20250308T132822Z
LAST-MODIFIED:20250814T110704Z
UID:30480-1797379200-1797465599@ravencafe.com
SUMMARY:1/2 off Rose ALL day!
DESCRIPTION:
URL:https://ravencafe.com/event/1-2-off-rose-all-day-206/
CATEGORIES:Raven Events
END:VEVENT
BEGIN:VEVENT
DTSTART;TZID=America/Phoenix:20261220T110000
DTEND;TZID=America/Phoenix:20261220T140000
DTSTAMP:20260424T214116
CREATED:20250314T131426Z
LAST-MODIFIED:20250814T110704Z
UID:30648-1797764400-1797775200@ravencafe.com
SUMMARY:Jonathan Best
DESCRIPTION:Join us for brunch every Sunday. Live music from 11-2p\n1st Sunday – Lee Zimmer. Classical and Spanish guitar\n2nd Sunday – Zach & Cozzy. Zach plays our house piano accompanied by Cozzy Bohrman on bass. Chillhop/jazz\n3rd Sunday – Jonathan Best. Local jazz piano player and composer.\n4th Sunday – Michael Jaramillo. Jazz guitar
URL:https://ravencafe.com/event/jonathan-best-48/
CATEGORIES:Raven Events
END:VEVENT
BEGIN:VEVENT
DTSTART;TZID=America/Phoenix:20261222T190000
DTEND;TZID=America/Phoenix:20261222T210000
DTSTAMP:20260424T214116
CREATED:20250314T131427Z
LAST-MODIFIED:20250814T110705Z
UID:30650-1797966000-1797973200@ravencafe.com
SUMMARY:Movie Night!
DESCRIPTION:
URL:https://ravencafe.com/event/movie-night-207/
CATEGORIES:Raven Events
END:VEVENT
BEGIN:VEVENT
DTSTART;VALUE=DATE:20261223
DTEND;VALUE=DATE:20261224
DTSTAMP:20260424T214116
CREATED:20250314T131427Z
LAST-MODIFIED:20250814T110705Z
UID:30649-1797984000-1798070399@ravencafe.com
SUMMARY:1/2 off Rose ALL day!
DESCRIPTION:
URL:https://ravencafe.com/event/1-2-off-rose-all-day-207/
CATEGORIES:Raven Events
END:VEVENT
BEGIN:VEVENT
DTSTART;TZID=America/Phoenix:20261227T110000
DTEND;TZID=America/Phoenix:20261227T140000
DTSTAMP:20260424T214116
CREATED:20250415T071105Z
LAST-MODIFIED:20250814T110706Z
UID:31387-1798369200-1798380000@ravencafe.com
SUMMARY:Michael Jaramillo
DESCRIPTION:Join us for brunch every Sunday. Live music from 11-2p\n1st Sunday – Lee Zimmer. Classical and Spanish guitar\n2nd Sunday – Zach & Cozzy. Zach plays our house piano accompanied by Cozzy Bohrman on bass. Chillhop/jazz\n3rd Sunday – Jonathan Best. Local jazz piano player and composer.\n4th Sunday – Michael Jaramillo. Jazz guitar
URL:https://ravencafe.com/event/michael-jaramillo-48/
CATEGORIES:Raven Events
END:VEVENT
END:VCALENDAR