BEGIN:VCALENDAR
VERSION:2.0
PRODID:-//Raven Café - ECPv6.15.20//NONSGML v1.0//EN
CALSCALE:GREGORIAN
METHOD:PUBLISH
X-WR-CALNAME:Raven Café
X-ORIGINAL-URL:https://ravencafe.com
X-WR-CALDESC:Events for Raven Café
REFRESH-INTERVAL;VALUE=DURATION:PT1H
X-Robots-Tag:noindex
X-PUBLISHED-TTL:PT1H
BEGIN:VTIMEZONE
TZID:America/Phoenix
BEGIN:STANDARD
TZOFFSETFROM:-0700
TZOFFSETTO:-0700
TZNAME:MST
DTSTART:20240101T000000
END:STANDARD
END:VTIMEZONE
BEGIN:VEVENT
DTSTART;TZID=America/Phoenix:20250902T190000
DTEND;TZID=America/Phoenix:20250902T210000
DTSTAMP:20260424T222517
CREATED:20240206T204151Z
LAST-MODIFIED:20250827T023121Z
UID:18694-1756839600-1756846800@ravencafe.com
SUMMARY:Movie Night!
DESCRIPTION:
URL:https://ravencafe.com/event/movie-night-139/
CATEGORIES:Raven Events
END:VEVENT
BEGIN:VEVENT
DTSTART;VALUE=DATE:20250903
DTEND;VALUE=DATE:20250904
DTSTAMP:20260424T222517
CREATED:20240206T204151Z
LAST-MODIFIED:20250827T023120Z
UID:18693-1756857600-1756943999@ravencafe.com
SUMMARY:1/2 off Rose ALL day!
DESCRIPTION:
URL:https://ravencafe.com/event/1-2-off-rose-all-day-139/
CATEGORIES:Raven Events
END:VEVENT
BEGIN:VEVENT
DTSTART;TZID=America/Phoenix:20250904T180000
DTEND;TZID=America/Phoenix:20250904T210000
DTSTAMP:20260424T222517
CREATED:20240206T204151Z
LAST-MODIFIED:20250827T023121Z
UID:18695-1757008800-1757019600@ravencafe.com
SUMMARY:1st Thursday Jazz Jam! This month’s host-
DESCRIPTION:Join us this Thursday and every 1st Thursday for our Jazz Jam. Hosted by a new house band each month\, it is an opportunity for local players to showcase their talents and connect with others. This is no amateur night\, you’ll be blown away! (Soloists bring a chart in the right key and sign up early!)
URL:https://ravencafe.com/event/1st-thursday-jazz-jam-this-months-host-32/
CATEGORIES:Raven Events
END:VEVENT
BEGIN:VEVENT
DTSTART;TZID=America/Phoenix:20250907T110000
DTEND;TZID=America/Phoenix:20250907T140000
DTSTAMP:20260424T222517
CREATED:20240206T204151Z
LAST-MODIFIED:20250827T023122Z
UID:18696-1757242800-1757253600@ravencafe.com
SUMMARY:Lee Zimmer
DESCRIPTION:Join us for brunch every Sunday. Live music from 11-2p\n1st Sunday – Lee Zimmer. Classical and Spanish guitar\n2nd Sunday – Zach & Cozzy. Zach plays our house piano accompanied by Cozzy Bohrman on bass. Chillhop/jazz\n3rd Sunday – Jonathan Best. Local jazz piano player and composer.\n4th Sunday – Michael Jaramillo. Jazz guitar
URL:https://ravencafe.com/event/lee-zimmer-32/
CATEGORIES:Raven Events
END:VEVENT
BEGIN:VEVENT
DTSTART;TZID=America/Phoenix:20250909T190000
DTEND;TZID=America/Phoenix:20250909T210000
DTSTAMP:20260424T222517
CREATED:20240206T204152Z
LAST-MODIFIED:20250827T023122Z
UID:18698-1757444400-1757451600@ravencafe.com
SUMMARY:Movie Night!
DESCRIPTION:
URL:https://ravencafe.com/event/movie-night-140/
CATEGORIES:Raven Events
END:VEVENT
BEGIN:VEVENT
DTSTART;VALUE=DATE:20250910
DTEND;VALUE=DATE:20250911
DTSTAMP:20260424T222517
CREATED:20240206T204151Z
LAST-MODIFIED:20250827T023123Z
UID:18697-1757462400-1757548799@ravencafe.com
SUMMARY:1/2 off Rose ALL day!
DESCRIPTION:
URL:https://ravencafe.com/event/1-2-off-rose-all-day-140/
CATEGORIES:Raven Events
END:VEVENT
BEGIN:VEVENT
DTSTART;TZID=America/Phoenix:20250914T110000
DTEND;TZID=America/Phoenix:20250914T140000
DTSTAMP:20260424T222517
CREATED:20240206T204152Z
LAST-MODIFIED:20250827T023123Z
UID:18699-1757847600-1757858400@ravencafe.com
SUMMARY:Zach Dominguez and Cozzy Bohrman
DESCRIPTION:Join us for brunch every Sunday. Live music from 11-2p\n1st Sunday – Lee Zimmer. Classical and Spanish guitar\n2nd Sunday – Zach & Cozzy. Zach plays our house piano accompanied by Cozzy Bohrman on bass. Chillhop/jazz\n3rd Sunday – Jonathan Best. Local jazz piano player and composer.\n4th Sunday – Michael Jaramillo. Jazz guitar
URL:https://ravencafe.com/event/zach-dominguez-and-cozzy-bohrman-63/
CATEGORIES:Raven Events
END:VEVENT
BEGIN:VEVENT
DTSTART;TZID=America/Phoenix:20250916T190000
DTEND;TZID=America/Phoenix:20250916T210000
DTSTAMP:20260424T222517
CREATED:20240206T204152Z
LAST-MODIFIED:20250827T023124Z
UID:18701-1758049200-1758056400@ravencafe.com
SUMMARY:Movie Night!
DESCRIPTION:
URL:https://ravencafe.com/event/movie-night-141/
CATEGORIES:Raven Events
END:VEVENT
BEGIN:VEVENT
DTSTART;VALUE=DATE:20250917
DTEND;VALUE=DATE:20250918
DTSTAMP:20260424T222517
CREATED:20240206T204152Z
LAST-MODIFIED:20250827T023124Z
UID:18700-1758067200-1758153599@ravencafe.com
SUMMARY:1/2 off Rose ALL day!
DESCRIPTION:
URL:https://ravencafe.com/event/1-2-off-rose-all-day-141/
CATEGORIES:Raven Events
END:VEVENT
BEGIN:VEVENT
DTSTART;TZID=America/Phoenix:20250921T110000
DTEND;TZID=America/Phoenix:20250921T140000
DTSTAMP:20260424T222517
CREATED:20240206T204152Z
LAST-MODIFIED:20250827T023124Z
UID:18702-1758452400-1758463200@ravencafe.com
SUMMARY:Jonathan Best
DESCRIPTION:Join us for brunch every Sunday. Live music from 11-2p\n1st Sunday – Lee Zimmer. Classical and Spanish guitar\n2nd Sunday – Zach & Cozzy. Zach plays our house piano accompanied by Cozzy Bohrman on bass. Chillhop/jazz\n3rd Sunday – Jonathan Best. Local jazz piano player and composer.\n4th Sunday – Michael Jaramillo. Jazz guitar
URL:https://ravencafe.com/event/jonathan-best-33/
CATEGORIES:Raven Events
END:VEVENT
BEGIN:VEVENT
DTSTART;TZID=America/Phoenix:20250923T190000
DTEND;TZID=America/Phoenix:20250923T210000
DTSTAMP:20260424T222517
CREATED:20240206T204152Z
LAST-MODIFIED:20250827T023125Z
UID:18703-1758654000-1758661200@ravencafe.com
SUMMARY:Movie Night!
DESCRIPTION:
URL:https://ravencafe.com/event/movie-night-142/
CATEGORIES:Raven Events
END:VEVENT
BEGIN:VEVENT
DTSTART;VALUE=DATE:20250924
DTEND;VALUE=DATE:20250925
DTSTAMP:20260424T222517
CREATED:20240206T204153Z
LAST-MODIFIED:20250827T023125Z
UID:18704-1758672000-1758758399@ravencafe.com
SUMMARY:1/2 off Rose ALL day!
DESCRIPTION:
URL:https://ravencafe.com/event/1-2-off-rose-all-day-142/
CATEGORIES:Raven Events
END:VEVENT
BEGIN:VEVENT
DTSTART;TZID=America/Phoenix:20250928T110000
DTEND;TZID=America/Phoenix:20250928T140000
DTSTAMP:20260424T222517
CREATED:20240206T204153Z
LAST-MODIFIED:20250827T023126Z
UID:18705-1759057200-1759068000@ravencafe.com
SUMMARY:Michael Jaramillo
DESCRIPTION:Join us for brunch every Sunday. Live music from 11-2p\n1st Sunday – Lee Zimmer. Classical and Spanish guitar\n2nd Sunday – Zach & Cozzy. Zach plays our house piano accompanied by Cozzy Bohrman on bass. Chillhop/jazz\n3rd Sunday – Jonathan Best. Local jazz piano player and composer.\n4th Sunday – Michael Jaramillo. Jazz guitar
URL:https://ravencafe.com/event/michael-jaramillo-33/
CATEGORIES:Raven Events
END:VEVENT
BEGIN:VEVENT
DTSTART;TZID=America/Phoenix:20250930T190000
DTEND;TZID=America/Phoenix:20250930T210000
DTSTAMP:20260424T222517
CREATED:20240206T204153Z
LAST-MODIFIED:20250827T023126Z
UID:18706-1759258800-1759266000@ravencafe.com
SUMMARY:Movie Night!
DESCRIPTION:
URL:https://ravencafe.com/event/movie-night-143/
CATEGORIES:Raven Events
END:VEVENT
END:VCALENDAR