BEGIN:VCALENDAR
VERSION:2.0
PRODID:-//Raven Café - ECPv6.15.20//NONSGML v1.0//EN
CALSCALE:GREGORIAN
METHOD:PUBLISH
X-WR-CALNAME:Raven Café
X-ORIGINAL-URL:https://ravencafe.com
X-WR-CALDESC:Events for Raven Café
REFRESH-INTERVAL;VALUE=DURATION:PT1H
X-Robots-Tag:noindex
X-PUBLISHED-TTL:PT1H
BEGIN:VTIMEZONE
TZID:America/Phoenix
BEGIN:STANDARD
TZOFFSETFROM:-0700
TZOFFSETTO:-0700
TZNAME:MST
DTSTART:20250101T000000
END:STANDARD
END:VTIMEZONE
BEGIN:VEVENT
DTSTART;TZID=America/Phoenix:20260101T180000
DTEND;TZID=America/Phoenix:20260101T210000
DTSTAMP:20260424T160140
CREATED:20240324T210337Z
LAST-MODIFIED:20250823T201609Z
UID:20390-1767290400-1767301200@ravencafe.com
SUMMARY:1st Thursday Jazz Jam! This month’s host-
DESCRIPTION:Join us this Thursday and every 1st Thursday for our Jazz Jam. Hosted by a new house band each month\, it is an opportunity for local players to showcase their talents and connect with others. This is no amateur night\, you’ll be blown away! (Soloists bring a chart in the right key and sign up early!)
URL:https://ravencafe.com/event/1st-thursday-jazz-jam-this-months-host-36/
CATEGORIES:Raven Events
END:VEVENT
BEGIN:VEVENT
DTSTART;TZID=America/Phoenix:20260104T110000
DTEND;TZID=America/Phoenix:20260104T140000
DTSTAMP:20260424T160140
CREATED:20240327T040348Z
LAST-MODIFIED:20250823T201610Z
UID:20497-1767524400-1767535200@ravencafe.com
SUMMARY:Lee Zimmer
DESCRIPTION:Join us for brunch every Sunday. Live music from 11-2p\n1st Sunday – Lee Zimmer. Classical and Spanish guitar\n2nd Sunday – Zach & Cozzy. Zach plays our house piano accompanied by Cozzy Bohrman on bass. Chillhop/jazz\n3rd Sunday – Jonathan Best. Local jazz piano player and composer.\n4th Sunday – Michael Jaramillo. Jazz guitar
URL:https://ravencafe.com/event/lee-zimmer-36/
CATEGORIES:Raven Events
END:VEVENT
BEGIN:VEVENT
DTSTART;TZID=America/Phoenix:20260106T190000
DTEND;TZID=America/Phoenix:20260106T210000
DTSTAMP:20260424T160140
CREATED:20240329T000914Z
LAST-MODIFIED:20250823T201611Z
UID:20566-1767726000-1767733200@ravencafe.com
SUMMARY:Movie Night!
DESCRIPTION:
URL:https://ravencafe.com/event/movie-night-157/
CATEGORIES:Raven Events
END:VEVENT
BEGIN:VEVENT
DTSTART;VALUE=DATE:20260107
DTEND;VALUE=DATE:20260108
DTSTAMP:20260424T160140
CREATED:20240328T001516Z
LAST-MODIFIED:20250823T201610Z
UID:20530-1767744000-1767830399@ravencafe.com
SUMMARY:1/2 off Rose ALL day!
DESCRIPTION:
URL:https://ravencafe.com/event/1-2-off-rose-all-day-157/
CATEGORIES:Raven Events
END:VEVENT
BEGIN:VEVENT
DTSTART;TZID=America/Phoenix:20260111T110000
DTEND;TZID=America/Phoenix:20260111T140000
DTSTAMP:20260424T160140
CREATED:20240403T043011Z
LAST-MODIFIED:20250823T201611Z
UID:20746-1768129200-1768140000@ravencafe.com
SUMMARY:Zach Dominguez and Cozzy Bohrman
DESCRIPTION:Join us for brunch every Sunday. Live music from 11-2p\n1st Sunday – Lee Zimmer. Classical and Spanish guitar\n2nd Sunday – Zach & Cozzy. Zach plays our house piano accompanied by Cozzy Bohrman on bass. Chillhop/jazz\n3rd Sunday – Jonathan Best. Local jazz piano player and composer.\n4th Sunday – Michael Jaramillo. Jazz guitar
URL:https://ravencafe.com/event/zach-dominguez-and-cozzy-bohrman-68/
CATEGORIES:Raven Events
END:VEVENT
BEGIN:VEVENT
DTSTART;TZID=America/Phoenix:20260113T190000
DTEND;TZID=America/Phoenix:20260113T210000
DTSTAMP:20260424T160140
CREATED:20240404T002925Z
LAST-MODIFIED:20250823T201612Z
UID:20778-1768330800-1768338000@ravencafe.com
SUMMARY:Movie Night!
DESCRIPTION:
URL:https://ravencafe.com/event/movie-night-158/
CATEGORIES:Raven Events
END:VEVENT
BEGIN:VEVENT
DTSTART;VALUE=DATE:20260114
DTEND;VALUE=DATE:20260115
DTSTAMP:20260424T160140
CREATED:20240405T042028Z
LAST-MODIFIED:20250823T201611Z
UID:20820-1768348800-1768435199@ravencafe.com
SUMMARY:1/2 off Rose ALL day!
DESCRIPTION:
URL:https://ravencafe.com/event/1-2-off-rose-all-day-158/
CATEGORIES:Raven Events
END:VEVENT
BEGIN:VEVENT
DTSTART;TZID=America/Phoenix:20260118T110000
DTEND;TZID=America/Phoenix:20260118T140000
DTSTAMP:20260424T160140
CREATED:20240407T213229Z
LAST-MODIFIED:20250823T201612Z
UID:20919-1768734000-1768744800@ravencafe.com
SUMMARY:Jonathan Best
DESCRIPTION:Join us for brunch every Sunday. Live music from 11-2p\n1st Sunday – Lee Zimmer. Classical and Spanish guitar\n2nd Sunday – Zach & Cozzy. Zach plays our house piano accompanied by Cozzy Bohrman on bass. Chillhop/jazz\n3rd Sunday – Jonathan Best. Local jazz piano player and composer.\n4th Sunday – Michael Jaramillo. Jazz guitar
URL:https://ravencafe.com/event/jonathan-best-37/
CATEGORIES:Raven Events
END:VEVENT
BEGIN:VEVENT
DTSTART;TZID=America/Phoenix:20260120T190000
DTEND;TZID=America/Phoenix:20260120T210000
DTSTAMP:20260424T160140
CREATED:20240410T042130Z
LAST-MODIFIED:20250823T201613Z
UID:21005-1768935600-1768942800@ravencafe.com
SUMMARY:Movie Night!
DESCRIPTION:
URL:https://ravencafe.com/event/movie-night-159/
CATEGORIES:Raven Events
END:VEVENT
BEGIN:VEVENT
DTSTART;VALUE=DATE:20260121
DTEND;VALUE=DATE:20260122
DTSTAMP:20260424T160140
CREATED:20240411T000908Z
LAST-MODIFIED:20250823T201613Z
UID:21034-1768953600-1769039999@ravencafe.com
SUMMARY:1/2 off Rose ALL day!
DESCRIPTION:
URL:https://ravencafe.com/event/1-2-off-rose-all-day-159/
CATEGORIES:Raven Events
END:VEVENT
BEGIN:VEVENT
DTSTART;TZID=America/Phoenix:20260125T110000
DTEND;TZID=America/Phoenix:20260125T140000
DTSTAMP:20260424T160140
CREATED:20240414T211857Z
LAST-MODIFIED:20250823T201614Z
UID:21170-1769338800-1769349600@ravencafe.com
SUMMARY:Michael Jaramillo
DESCRIPTION:Join us for brunch every Sunday. Live music from 11-2p\n1st Sunday – Lee Zimmer. Classical and Spanish guitar\n2nd Sunday – Zach & Cozzy. Zach plays our house piano accompanied by Cozzy Bohrman on bass. Chillhop/jazz\n3rd Sunday – Jonathan Best. Local jazz piano player and composer.\n4th Sunday – Michael Jaramillo. Jazz guitar
URL:https://ravencafe.com/event/michael-jaramillo-37/
CATEGORIES:Raven Events
END:VEVENT
BEGIN:VEVENT
DTSTART;TZID=America/Phoenix:20260127T190000
DTEND;TZID=America/Phoenix:20260127T210000
DTSTAMP:20260424T160140
CREATED:20240417T040941Z
LAST-MODIFIED:20250823T201614Z
UID:21253-1769540400-1769547600@ravencafe.com
SUMMARY:Movie Night!
DESCRIPTION:
URL:https://ravencafe.com/event/movie-night-160/
CATEGORIES:Raven Events
END:VEVENT
BEGIN:VEVENT
DTSTART;VALUE=DATE:20260128
DTEND;VALUE=DATE:20260129
DTSTAMP:20260424T160140
CREATED:20240418T003954Z
LAST-MODIFIED:20250823T201614Z
UID:21283-1769558400-1769644799@ravencafe.com
SUMMARY:1/2 off Rose ALL day!
DESCRIPTION:
URL:https://ravencafe.com/event/1-2-off-rose-all-day-160/
CATEGORIES:Raven Events
END:VEVENT
END:VCALENDAR